BEGIN:VCALENDAR
VERSION:2.0
PRODID:-//Θέατρο Παλλάς - ECPv6.15.20//NONSGML v1.0//EN
CALSCALE:GREGORIAN
METHOD:PUBLISH
X-WR-CALNAME:Θέατρο Παλλάς
X-ORIGINAL-URL:https://pallastheater.com/en/
X-WR-CALDESC:Events for Θέατρο Παλλάς
REFRESH-INTERVAL;VALUE=DURATION:PT1H
X-Robots-Tag:noindex
X-PUBLISHED-TTL:PT1H
BEGIN:VTIMEZONE
TZID:Europe/Athens
BEGIN:DAYLIGHT
TZOFFSETFROM:+0200
TZOFFSETTO:+0300
TZNAME:EEST
DTSTART:20240331T010000
END:DAYLIGHT
BEGIN:STANDARD
TZOFFSETFROM:+0300
TZOFFSETTO:+0200
TZNAME:EET
DTSTART:20241027T010000
END:STANDARD
BEGIN:DAYLIGHT
TZOFFSETFROM:+0200
TZOFFSETTO:+0300
TZNAME:EEST
DTSTART:20250330T010000
END:DAYLIGHT
BEGIN:STANDARD
TZOFFSETFROM:+0300
TZOFFSETTO:+0200
TZNAME:EET
DTSTART:20251026T010000
END:STANDARD
BEGIN:DAYLIGHT
TZOFFSETFROM:+0200
TZOFFSETTO:+0300
TZNAME:EEST
DTSTART:20260329T010000
END:DAYLIGHT
BEGIN:STANDARD
TZOFFSETFROM:+0300
TZOFFSETTO:+0200
TZNAME:EET
DTSTART:20261025T010000
END:STANDARD
BEGIN:DAYLIGHT
TZOFFSETFROM:+0200
TZOFFSETTO:+0300
TZNAME:EEST
DTSTART:20270328T010000
END:DAYLIGHT
BEGIN:STANDARD
TZOFFSETFROM:+0300
TZOFFSETTO:+0200
TZNAME:EET
DTSTART:20271031T010000
END:STANDARD
END:VTIMEZONE
BEGIN:VEVENT
DTSTART;TZID=Europe/Athens:20251101T080000
DTEND;TZID=Europe/Athens:20260111T170000
DTSTAMP:20260423T011516
CREATED:20250330T142008Z
LAST-MODIFIED:20251107T163507Z
UID:21300-1761984000-1768150800@pallastheater.com
SUMMARY:Pallas Theater welcomes Annie!
DESCRIPTION:Club Pallas Privileges\n \n🎞️ With English surtitles 🎞️ \n\n\n\n\nTickets\n\nPallas Theater welcomes Annie! \n \nPerformed in Greek with English surtitles \nOne of the most popular musicals of all time is coming to Pallas Theater from November 1st! \nAnnie!\nThe multi-award-winning musical by Thomas Meehan\, Charles Strouse\, and Martin Charnin comes to remind us that happiness can come when we least expect it!. \nDirected by Themis Marsellou\, known for major musical productions\, with a large cast\, a live orchestra\, children\, and… a dog\, this production promises to transport us into a magical world filled with emotion\, humor\, moving moments\, music\, and wonderful songs! \nDirection – Adaptation of script and lyrics: \nThemis Marsellou \nStarring: \n\nYannis Stankoglou as billionaire Oliver Warbucks\nDanai Pappa as Grace Farrell\, his secretary\nMaria Katsandri as Miss Hannigan\, the head of the orphanage\nArgyris Angelou as the ruthless Rooster Hannigan\nKaterina Sousoula as his cunning girlfriend\, Lily\n\nIn the role of Annie: young Myrto Farazi. \nWith a full live orchestra\, dazzling choreography\, and impressive sets and costumes\, this spectacular production on the stage of the Pallas Theater invites us to follow the journey of a little girl living in hard times\, facing the harsh side of life\, yet still insisting on dreaming\, hoping\, singing\, and believing in a better “tomorrow” for everyone. \nA glimpse into the story: \nNew York\, 1933. In the years following the Great Depression\, a little girl named Annie (Myrto Farazi) lives in an orphanage for girls\, dreaming of the parents who abandoned her there as a baby\, leaving only a letter promising they would\, one day\, return to take her back home.\nThe orphanage is run by Miss Hannigan (Maria Katsandri)\, who despises children and makes life extremely difficult for the girls. \nOne day\, after a failed escape attempt\, Annie’s life changes in an instant. Grace Farrell (Danai Pappa)\, secretary to billionaire Oliver Warbucks (Yannis Stankoglou)\, visits the orphanage and chooses Annie to spend Christmas at the Warbucks mansion in order to improve Mr Warbucks’ public image. \nAt first\, the indifferent and stern Oliver Warbucks ignores Annie\, absorbed in his work and business affairs. But Annie quickly wins him over and steals his heart. The hard businessman becomes like a child again in her presence\, rediscovers the values and joys of life\, and asks to adopt her. Still\, Annie has never stopped dreaming of finding her real parents. \nWhen Mr. Warbucks\, hurt but determined to help her\, offers a huge cash reward to anyone who can prove they are her parents\, a new adventure begins for Annie. Miss Hannigan reappears\, and with the help of her sly brother Rooster (Argyris Angelou) and his girlfriend Lily (Katerina Sousoula)\, sets out once again to make Annie’s life very difficult—and dangerous. \nThe rest of the story… will be revealed this November on the stage of Pallas Theater! \nA few words about the musical: \nThe musical “Annie”\, based on Harold Gray’s popular comic strip “Little Orphan Annie”\, premiered on Broadway in 1977 and became a worldwide phenomenon. Among many awards\, it won seven Tony Awards (including Best Musical) and six Drama Desk Awards.\nIt is no coincidence that two of the songs from Annie — “Tomorrow” and “It’s the Hard-Knock Life” — are considered among the most famous musical theatre songs of all time. \nThe show has been translated into dozens of languages and continues to be performed around the world\, achieving great commercial and artistic success everywhere. The musical “Annie” has also been adapted into film eight (!) times\, the most iconic being the Hollywood production of 1982. \nThis November\, the most beloved musical of all time comes to Pallas Theater to remind us all that even in darkness\, there is always a small crack where the light shines through. And in that light\, all dreams and hopes can fit…! \nPerformed in Greek with English surtitles \nCreative Team \n\nBook: Thomas Meehan\nMusic: Charles Strouse\nLyrics: Martin Charnin\nDirection – Adaptation (Book & Lyrics): Themis Marsellou\nMusic Direction & Conducting: Nikolas Vastor\nSet Design: Manolis Pantelidakis\nVocal Coaching – Piano Accompaniment: Vasilis Alevizos\nChoreography: Anna Athanasiadi\nCostume Design: Panagiota Kokorou\nLighting Design: Stella Kaltsou & Giorgos Tellos\nVideo Art: Karolos Porfyris\nAssistant Director: Maria Vasilatou\n\nStarring:\nYiannis Stankoglou\, Danai Pappa\, Maria Katsandri\, Argyris Aggelou\, Katerina Sousoula\, \nVasilis Axiotis\, Stelios Kelleris \nMaria Vasilatou\, Giorgos Vountas\, Thodoris Giannopoulos\, Dora Geka\, Emily Gousgouni\, Anna-Maria Kornia\, Zoistella Nikolaou\, Stergios Pertsinidis\, Marios Petkidis\, Paris Chalatsis\, Sesilia Kavouriadi\, and Themis Marsellou \nAnnie: Myrto Farazi \nIn certain performances\, the role of Annie is portrayed by Marianthe Chroni \nAlso Starring\, in Double Cast\, the children: \nGiannoula Apostolopoulou\, Ariadni Vassilaropoulou\, Sesil Velissari\, Evelina Iliopoulou\, Mandy Kakarounta\, Aliki Keegan\, Iliana Larissa\, Vana Bertaki\, Elena Pelekanou\, Melia Roditi\, Aimilia Rousi\, Konstantina Tsougianni \nAnnie by Thomas Meehan (book)\, Charles Strouse (music)\, and Martin Charnin (lyrics) \nOriginal Broadway direction: Martin Charnin \nOriginally presented by Mike Nichols\, produced by Irwin Meyer\, Stephen R. Friedman\, Lewis Allen\, Alvin Nederlander\, The John F. Kennedy Center for the Performing Arts\, Icarus Productions. \nBased on Little Orphan Annie by Harold Gray Licensed by Tribute Content Agency\, LLC\nOriginally produced by The Goodspeed Opera House\, \nMichael P. Price – Executive Director \n“This production is presented in cooperation with Music Theatre International (Europe) Limited: www.mtishows.eu” \n 
URL:https://pallastheater.com/en/event/to-theatro-pallas-ypodechetai-tin-annie/
LOCATION:Pallas Theater\, Voukourestiou 3-5\, Athens\, Athens\, 10564\, Ελλάδα
CATEGORIES:2025-2026
ATTACH;FMTTYPE=image/jpeg:https://pallastheater.com/wp-content/uploads/2025/03/socialsANNIEmore1220x370-1.jpg
END:VEVENT
END:VCALENDAR