BEGIN:VCALENDAR
VERSION:2.0
PRODID:-//Θέατρο Παλλάς - ECPv6.15.20//NONSGML v1.0//EN
CALSCALE:GREGORIAN
METHOD:PUBLISH
X-WR-CALNAME:Θέατρο Παλλάς
X-ORIGINAL-URL:https://pallastheater.com/en/
X-WR-CALDESC:Events for Θέατρο Παλλάς
REFRESH-INTERVAL;VALUE=DURATION:PT1H
X-Robots-Tag:noindex
X-PUBLISHED-TTL:PT1H
BEGIN:VTIMEZONE
TZID:Europe/Athens
BEGIN:DAYLIGHT
TZOFFSETFROM:+0200
TZOFFSETTO:+0300
TZNAME:EEST
DTSTART:20250330T010000
END:DAYLIGHT
BEGIN:STANDARD
TZOFFSETFROM:+0300
TZOFFSETTO:+0200
TZNAME:EET
DTSTART:20251026T010000
END:STANDARD
BEGIN:DAYLIGHT
TZOFFSETFROM:+0200
TZOFFSETTO:+0300
TZNAME:EEST
DTSTART:20260329T010000
END:DAYLIGHT
BEGIN:STANDARD
TZOFFSETFROM:+0300
TZOFFSETTO:+0200
TZNAME:EET
DTSTART:20261025T010000
END:STANDARD
BEGIN:DAYLIGHT
TZOFFSETFROM:+0200
TZOFFSETTO:+0300
TZNAME:EEST
DTSTART:20270328T010000
END:DAYLIGHT
BEGIN:STANDARD
TZOFFSETFROM:+0300
TZOFFSETTO:+0200
TZNAME:EET
DTSTART:20271031T010000
END:STANDARD
END:VTIMEZONE
BEGIN:VEVENT
DTSTART;TZID=Europe/Athens:20260309T210000
DTEND;TZID=Europe/Athens:20260309T233000
DTSTAMP:20260422T221206
CREATED:20260108T194621Z
LAST-MODIFIED:20260108T194814Z
UID:22592-1773090000-1773099000@pallastheater.com
SUMMARY:ANTONIS KALOGIANNIS - "The voice of our soul"
DESCRIPTION:An evening of music\, remembrance\, and love\n\n\nOn Monday\, March 9\, 2026\, the Pallas Theater at 8:30 p.m. will open its doors to host a special musical evening dedicated to the memory and work of the great performer Antonis Kalogiannis\, five years after his passing.\n\nAn evening of remembrance and gratitude for a voice that did not merely caress the songs\, but served them with truth\, ethos\, and deep human sensitivity.\nAntonis Kalogiannis was a performer of substance—a voice that breathed life into great ideas\, poetic lyrics\, and music that marked an era. He had the good fortune but also the heavy responsibility of standing alongside leading creators\, foremost among them Mikis Theodorakis\, and becoming the bearer of a song that spoke directly to the soul and to the struggle.\n\nDuring the evening\, songs that Antonis Kalogiannis indelibly marked with his voice will be heard\, set to music by Stavros Xarchakos\, Mimis Plessas\, Dimos Moutsis\, Ilias Andriopoulos\,  Giorgos Hatzinasios\, Marios Tokas\, Spyros Papavasiliou\, Giorgos Hatzinasios\, Argyris Kounadis\, Georges Moustaki\, Kostas Hatzis\, Vangelis Korakakis\, and other important composers.\n\nSongs based on lyrics and poems by Seferis\, Sikelianos\, Ritsos\, Anagnostakis\, Gatsos\, Manos Eleftheriou\, Dimitris Christodoulou — words that became songs and songs that became memories.\n\nGreat performers and friends will take to the stage to honor his career with respect and love: Melina Aslanidou\, Manolis Mitsias\, Giorgos Dalaras\, Dimitris Bassis\, Giorgos Dalaras\, Miltos Paschalidis\, and Tasis Christoyannopoulos. The musical direction will be handled by Andreas Katsiyannis\, head of the Estudiantina of Nea Ionia\, an ensemble that knows better than most how to evoke emotion through tradition and the artistic universe\, with sensitivity and respect.\nThe artistic advisor for the evening is Ilias Benetos.\n\nThe performance is directed by Sofia Spyratou\, while the video art is curated by Nikos Soules\, with original archival visual material\, so that the form and history of Antonis Kalogiannis can converse vividly with the present.\nThe narration is provided with sensitivity and clarity by Evdokia Roumelioti.\n\nA musical encounter that not only looks back\, but also illuminates the legacy of an artist who expressed an entire era — and continues to move us.\n\nPRODUCTION: STAGES NETWORK – POWER PRODUCTION\n\n\n\n\n\n\n\n\n\n\n\n\n\nTICKETS
URL:https://pallastheater.com/en/event/antonis-kalogiannis-i-foni-tis-psychis-mas/
LOCATION:Pallas Theater\, Voukourestiou 3-5\, Athens\, Athens\, 10564\, Ελλάδα
CATEGORIES:2025-2026,Music
ATTACH;FMTTYPE=image/jpeg:https://pallastheater.com/wp-content/uploads/2026/01/kalogiannis-more-1220X370-1.jpg
END:VEVENT
END:VCALENDAR