BEGIN:VCALENDAR
VERSION:2.0
PRODID:-//Θέατρο Παλλάς - ECPv6.15.20//NONSGML v1.0//EN
CALSCALE:GREGORIAN
METHOD:PUBLISH
X-ORIGINAL-URL:https://pallastheater.com/en/
X-WR-CALDESC:Events for Θέατρο Παλλάς
REFRESH-INTERVAL;VALUE=DURATION:PT1H
X-Robots-Tag:noindex
X-PUBLISHED-TTL:PT1H
BEGIN:VTIMEZONE
TZID:Europe/Athens
BEGIN:DAYLIGHT
TZOFFSETFROM:+0200
TZOFFSETTO:+0300
TZNAME:EEST
DTSTART:20250330T010000
END:DAYLIGHT
BEGIN:STANDARD
TZOFFSETFROM:+0300
TZOFFSETTO:+0200
TZNAME:EET
DTSTART:20251026T010000
END:STANDARD
BEGIN:DAYLIGHT
TZOFFSETFROM:+0200
TZOFFSETTO:+0300
TZNAME:EEST
DTSTART:20260329T010000
END:DAYLIGHT
BEGIN:STANDARD
TZOFFSETFROM:+0300
TZOFFSETTO:+0200
TZNAME:EET
DTSTART:20261025T010000
END:STANDARD
BEGIN:DAYLIGHT
TZOFFSETFROM:+0200
TZOFFSETTO:+0300
TZNAME:EEST
DTSTART:20270328T010000
END:DAYLIGHT
BEGIN:STANDARD
TZOFFSETFROM:+0300
TZOFFSETTO:+0200
TZNAME:EET
DTSTART:20271031T010000
END:STANDARD
END:VTIMEZONE
BEGIN:VEVENT
DTSTART;TZID=Europe/Athens:20260309T210000
DTEND;TZID=Europe/Athens:20260309T233000
DTSTAMP:20260424T182532
CREATED:20260108T194621Z
LAST-MODIFIED:20260108T194814Z
UID:22592-1773090000-1773099000@pallastheater.com
SUMMARY:ANTONIS KALOGIANNIS - "The voice of our soul"
DESCRIPTION:An evening of music\, remembrance\, and love\n\n\nOn Monday\, March 9\, 2026\, the Pallas Theater at 8:30 p.m. will open its doors to host a special musical evening dedicated to the memory and work of the great performer Antonis Kalogiannis\, five years after his passing.\n\nAn evening of remembrance and gratitude for a voice that did not merely caress the songs\, but served them with truth\, ethos\, and deep human sensitivity.\nAntonis Kalogiannis was a performer of substance—a voice that breathed life into great ideas\, poetic lyrics\, and music that marked an era. He had the good fortune but also the heavy responsibility of standing alongside leading creators\, foremost among them Mikis Theodorakis\, and becoming the bearer of a song that spoke directly to the soul and to the struggle.\n\nDuring the evening\, songs that Antonis Kalogiannis indelibly marked with his voice will be heard\, set to music by Stavros Xarchakos\, Mimis Plessas\, Dimos Moutsis\, Ilias Andriopoulos\,  Giorgos Hatzinasios\, Marios Tokas\, Spyros Papavasiliou\, Giorgos Hatzinasios\, Argyris Kounadis\, Georges Moustaki\, Kostas Hatzis\, Vangelis Korakakis\, and other important composers.\n\nSongs based on lyrics and poems by Seferis\, Sikelianos\, Ritsos\, Anagnostakis\, Gatsos\, Manos Eleftheriou\, Dimitris Christodoulou — words that became songs and songs that became memories.\n\nGreat performers and friends will take to the stage to honor his career with respect and love: Melina Aslanidou\, Manolis Mitsias\, Giorgos Dalaras\, Dimitris Bassis\, Giorgos Dalaras\, Miltos Paschalidis\, and Tasis Christoyannopoulos. The musical direction will be handled by Andreas Katsiyannis\, head of the Estudiantina of Nea Ionia\, an ensemble that knows better than most how to evoke emotion through tradition and the artistic universe\, with sensitivity and respect.\nThe artistic advisor for the evening is Ilias Benetos.\n\nThe performance is directed by Sofia Spyratou\, while the video art is curated by Nikos Soules\, with original archival visual material\, so that the form and history of Antonis Kalogiannis can converse vividly with the present.\nThe narration is provided with sensitivity and clarity by Evdokia Roumelioti.\n\nA musical encounter that not only looks back\, but also illuminates the legacy of an artist who expressed an entire era — and continues to move us.\n\nPRODUCTION: STAGES NETWORK – POWER PRODUCTION\n\n\n\n\n\n\n\n\n\n\n\n\n\nTICKETS
URL:https://pallastheater.com/en/event/antonis-kalogiannis-i-foni-tis-psychis-mas/
LOCATION:Pallas Theater\, Voukourestiou 3-5\, Athens\, Athens\, 10564\, Ελλάδα
CATEGORIES:2025-2026,Music
ATTACH;FMTTYPE=image/jpeg:https://pallastheater.com/wp-content/uploads/2026/01/kalogiannis-more-1220X370-1.jpg
END:VEVENT
BEGIN:VEVENT
DTSTART;TZID=Europe/Athens:20260319T210000
DTEND;TZID=Europe/Athens:20260517T233000
DTSTAMP:20260424T182532
CREATED:20260120T143712Z
LAST-MODIFIED:20260220T175549Z
UID:22651-1773954000-1779060600@pallastheater.com
SUMMARY:“ASTORIA”
DESCRIPTION:Club Pallas Privileges\n \n🎞️ With English surtitles 🎞️\n\n\n\n\n\n\n\n\n\n\n\n\n\n\n\n\nTICKETS\n\n\n\n\n\n\n\n\n\n\n\n\n\nASTORIA\nFrom March 19th \nThey did not leave to become rich.\nThey left to endure. \nIn interwar New York—a city that dazzles and “devours” in equal measure—Greek immigrants build a version of Greece in a coffeehouse. A place where language\, song\, and memory are the only things that cannot be taxed. \nAstoria is the new production of Pallas Theater\, opening on March 19th. It features an original script by Konstantinos Samaras and is directed by Vasilis Mavrogeorgiou. Set against a rich musical backdrop\, the story explores the lives\, dreams\, and contradictions of the Greek immigrant community as it struggles to put down roots in a foreign land. \nGreece and New York\, separated by an ocean—yet united in a single coffeehouse\, in the heart of the most legendary immigrant neighborhood. A place where the aroma of Greek coffee mingles with the languages of the world\, and where lives intersect simply to endure. \nAgainst the backdrop of Prohibition\, economic hardship\, and political turmoil\, Tasoula arrives alone in New York. A city both brutal and dazzling\, promising everything and granting nothing. Among skyscrapers and underground deals\, the young woman is forced to confront the need to survive\, to stand on her own feet\, and to find her voice. \nThe Greek coffeehouse becomes her refuge—a place for meeting\, confession\, and remembrance. There\, Tasoula sings of the sorrows\, dreams\, and passions of an entire immigrant community: people who left behind their homes\, families\, and former lives in search of a second chance. \nLove affairs\, betrayals\, conflicts of interest\, and secret agreements weave a dense tapestry of human stories\, within which a young woman must reckon with the cost of survival and personal freedom. \nAstoria is a tale for those who left and for those who stayed behind.\nFor the women who were forced to grow up too quickly.\nFor the men who learned to hide their fear.\nFor a community that sings so as not to disappear. \nFrom March 19th\, at Pallas Theater\, Astoria brings to the stage — with a live orchestra under the musical direction of Nikos Stratigos — the pain of exile with truth and deep emotion. \nCredits:  \nDirector: Vasilis Mavrogeorgiou\nWritten by: Konstantinos Samaras\nOriginal Music – Orchestrations: Nikos Stratigos\nSet Design: Manolis Pantelidakis\nCostume Design: Alexia Theodoraki\nLighting Design: Stella Kaltsou\nChoreography / Movement: Paris Mantopoulos\nAssistant Directors: Eleni Tsinareli\, Anatoli Tselaridou \nStarring:\nEvelyn Asouad / Theodosia Savvaki\nChristos Stergioglou\nBessy Malfa\nMichalis Alikakos\nGiannis Tsoumarakis\nAriadni Kavalierou\nFotini Papatheodorou\nDimitris Machairas\nDimitris Galanakis\nTheano Kladi\nGiannis Bisbikopoulos\nNikos Dertilis\nMichalis Koutskoudis\nLeonidas Bakalis\nAnatoli Tselaridou\nEleni Tsinareli \n\n\n\n\n\n\n\n\n\n\n\n\n\n\n	Media\n\n\n\n\n\n\n\n\n\n\n\n\n\n\n\n\n\n\n\n\n\n\n\n\n\n\n\n\n\n\nAstoria: A Tale for Those Who Left — and Those Who Stayed Behind \nSet in interwar New York\, Astoria\, the new production at Pallas Theater\, tells the story of Greek immigrants who crossed an ocean simply to endure. Through music\, memory\, and a single coffeehouse\, the performance traces exile\, survival\, and the fragile hope of belonging \nSource: tovima.com
URL:https://pallastheater.com/en/event/astoria/
LOCATION:Pallas Theater\, Voukourestiou 3-5\, Athens\, Athens\, 10564\, Ελλάδα
CATEGORIES:2025-2026,Music,Theater
ATTACH;FMTTYPE=image/jpeg:https://pallastheater.com/wp-content/uploads/2026/01/VIVA1220x370-5.jpg
END:VEVENT
BEGIN:VEVENT
DTSTART;TZID=Europe/Athens:20260330T210000
DTEND;TZID=Europe/Athens:20260331T233000
DTSTAMP:20260424T182532
CREATED:20260213T191221Z
LAST-MODIFIED:20260331T095556Z
UID:22805-1774904400-1774999800@pallastheater.com
SUMMARY:Yiannis Parios "My whole life" | Two final concerts
DESCRIPTION:TICKETS\n\n\n\n\n\n\n\n\n\n\n\n\n\nYiannis Parios concludes his series of highly successful performances at the Pallas Theater on Monday\, March 30\, and Tuesday\, March 31\, with two final evenings filled with beloved songs. \nAfter a season of consecutive sold-out performances\, the leading interpreter of love returns for two final evenings with songs from “his entire life” — songs that have marked generations and continue to move audiences. \nHis previous concerts at Pallas left an indelible mark\, evenings filled with emotion\, truth\, and a unique connection with the audience that sang and was moved along with him. The response from the audience was overwhelming — a true celebration of music and love. \nWith fifty-six years of songs under his belt and accompanied by an exceptional orchestra\, we will fall in love\, we will dream\, we will feel nostalgic\, but we will also have fun with the timeless traditional songs that we all love.
URL:https://pallastheater.com/en/event/giannis-parios-oli-i-zoi-mou-dyo-teleftaies-synavlies/
LOCATION:Pallas Theater\, Voukourestiou 3-5\, Athens\, Athens\, 10564\, Ελλάδα
CATEGORIES:2025-2026,Music
ATTACH;FMTTYPE=image/jpeg:https://pallastheater.com/wp-content/uploads/2026/02/parios.jpg
END:VEVENT
END:VCALENDAR