BEGIN:VCALENDAR
VERSION:2.0
PRODID:-//Θέατρο Παλλάς - ECPv6.15.20//NONSGML v1.0//EN
CALSCALE:GREGORIAN
METHOD:PUBLISH
X-ORIGINAL-URL:https://pallastheater.com/en/
X-WR-CALDESC:Events for Θέατρο Παλλάς
REFRESH-INTERVAL;VALUE=DURATION:PT1H
X-Robots-Tag:noindex
X-PUBLISHED-TTL:PT1H
BEGIN:VTIMEZONE
TZID:Europe/Athens
BEGIN:DAYLIGHT
TZOFFSETFROM:+0200
TZOFFSETTO:+0300
TZNAME:EEST
DTSTART:20250330T010000
END:DAYLIGHT
BEGIN:STANDARD
TZOFFSETFROM:+0300
TZOFFSETTO:+0200
TZNAME:EET
DTSTART:20251026T010000
END:STANDARD
BEGIN:DAYLIGHT
TZOFFSETFROM:+0200
TZOFFSETTO:+0300
TZNAME:EEST
DTSTART:20260329T010000
END:DAYLIGHT
BEGIN:STANDARD
TZOFFSETFROM:+0300
TZOFFSETTO:+0200
TZNAME:EET
DTSTART:20261025T010000
END:STANDARD
BEGIN:DAYLIGHT
TZOFFSETFROM:+0200
TZOFFSETTO:+0300
TZNAME:EEST
DTSTART:20270328T010000
END:DAYLIGHT
BEGIN:STANDARD
TZOFFSETFROM:+0300
TZOFFSETTO:+0200
TZNAME:EET
DTSTART:20271031T010000
END:STANDARD
END:VTIMEZONE
BEGIN:VEVENT
DTSTART;TZID=Europe/Athens:20260216T210000
DTEND;TZID=Europe/Athens:20260216T233000
DTSTAMP:20260425T155011
CREATED:20260126T121646Z
LAST-MODIFIED:20260126T122043Z
UID:22705-1771275600-1771284600@pallastheater.com
SUMMARY:THE ITALIAN TENORS
DESCRIPTION:In the aftermath of Valentine’s Day\, the beloved Italian Tenors return to Athens to prolong the magic of love in an utterly romantic concert entitled “That’s Amore” on Monday\, February 16\, at the Pallas Theater. \nAfter the huge success of their sold-out performances at the Athens Conservatory\, Evans Tonon\, Luca Sala\, and Bruno Almeida meet their audience again in an evening dedicated to love\, passion\, and authentic Italian emotion.\n\n“That’s Amore” is a musical celebration of love. A program inspired by the most iconic Italian love songs that have marked generations and accompanied great stories of the heart. Melodies full of romance\, nostalgia\, and intensity come to life on stage\, creating an ideal atmosphere for those who love—and those who want to love.\n\nThe repertoire includes global hits\, beloved Italian canzonettas\, well-known arias\, and songs that symbolize love\, from Caruso and Con Te Partirò to the immortal Volare. Each performance is an experience\, as the three tenors combine high musical standards\, theatricality\, and lively interaction with the audience\, always with humor and characteristic Italian temperament.\n\nWith appearances in the world’s greatest opera houses and theaters and an international career spanning more than thirteen years\, Luca Sala\, Bruno Almeida\, and Evans Tonon stand out for their vocal power and stage presence\, captivating the audience from the first note to the last.\n\nJoin The Italian Tenors on the ultimate musical journey into love.\nThat’s Amore.\n\n\n\n\n\n\n\n\n\n\n\n\n\nTICKETS
URL:https://pallastheater.com/en/event/the-italian-tenors/
LOCATION:Pallas Theater\, Voukourestiou 3-5\, Athens\, Athens\, 10564\, Ελλάδα
CATEGORIES:2025-2026,Music
ATTACH;FMTTYPE=image/jpeg:https://pallastheater.com/wp-content/uploads/2026/01/italian-tenors.jpg
END:VEVENT
END:VCALENDAR