BEGIN:VCALENDAR
VERSION:2.0
PRODID:-//Θέατρο Παλλάς - ECPv6.15.20//NONSGML v1.0//EN
CALSCALE:GREGORIAN
METHOD:PUBLISH
X-ORIGINAL-URL:https://pallastheater.com/en/
X-WR-CALDESC:Events for Θέατρο Παλλάς
REFRESH-INTERVAL;VALUE=DURATION:PT1H
X-Robots-Tag:noindex
X-PUBLISHED-TTL:PT1H
BEGIN:VTIMEZONE
TZID:Europe/Athens
BEGIN:DAYLIGHT
TZOFFSETFROM:+0200
TZOFFSETTO:+0300
TZNAME:EEST
DTSTART:20250330T010000
END:DAYLIGHT
BEGIN:STANDARD
TZOFFSETFROM:+0300
TZOFFSETTO:+0200
TZNAME:EET
DTSTART:20251026T010000
END:STANDARD
BEGIN:DAYLIGHT
TZOFFSETFROM:+0200
TZOFFSETTO:+0300
TZNAME:EEST
DTSTART:20260329T010000
END:DAYLIGHT
BEGIN:STANDARD
TZOFFSETFROM:+0300
TZOFFSETTO:+0200
TZNAME:EET
DTSTART:20261025T010000
END:STANDARD
BEGIN:DAYLIGHT
TZOFFSETFROM:+0200
TZOFFSETTO:+0300
TZNAME:EEST
DTSTART:20270328T010000
END:DAYLIGHT
BEGIN:STANDARD
TZOFFSETFROM:+0300
TZOFFSETTO:+0200
TZNAME:EET
DTSTART:20271031T010000
END:STANDARD
END:VTIMEZONE
BEGIN:VEVENT
DTSTART;TZID=Europe/Athens:20260217T210000
DTEND;TZID=Europe/Athens:20260217T233000
DTSTAMP:20260425T141942
CREATED:20250924T093149Z
LAST-MODIFIED:20260127T112603Z
UID:21984-1771362000-1771371000@pallastheater.com
SUMMARY:Γιάννης Πάριος - Θέατρο Παλλάς
DESCRIPTION:Giannis Parios returns to Pallas Theater on Monday\, November 24\,  Tuesday\, November 25\, Tuesday\, December 9 and Wednesday December 10\, for four special evenings dedicated yo the audience he holds so dear. \nAfter a winter of sold-out performances in both Athens and Thessaloniki\, the “voice of love” invites us once again to share a night of music that spans his entire life \nHis previous appearances at Pallas Theater left a lasting impression—nights filled with emotion\, authenticity\, and a rare connection with the audience\, who sang and felt every moment alongside him. The response was extraordinary: a true celebration of music and love. \nNow\, with a repertoire spanning fifty-six years and accompanied by an exceptional orchestra\, Parios promises evenings where we will fall in love\, dream\, reminisce\, and celebrate together with the timeless island songs we all hold dear. \n\n\n\n\n\n\n\n\n\n\n\n\n\nTICKETS
URL:https://pallastheater.com/en/event/giannis-parios-theatro-pallas/
LOCATION:Pallas Theater\, Voukourestiou 3-5\, Athens\, Athens\, 10564\, Ελλάδα
CATEGORIES:2025-2026,Music
ATTACH;FMTTYPE=image/jpeg:https://pallastheater.com/wp-content/uploads/2025/09/parios17.jpg
END:VEVENT
END:VCALENDAR