BEGIN:VCALENDAR
VERSION:2.0
PRODID:-//Θέατρο Παλλάς - ECPv6.15.20//NONSGML v1.0//EN
CALSCALE:GREGORIAN
METHOD:PUBLISH
X-ORIGINAL-URL:https://pallastheater.com/en/
X-WR-CALDESC:Events for Θέατρο Παλλάς
REFRESH-INTERVAL;VALUE=DURATION:PT1H
X-Robots-Tag:noindex
X-PUBLISHED-TTL:PT1H
BEGIN:VTIMEZONE
TZID:UTC
BEGIN:STANDARD
TZOFFSETFROM:+0000
TZOFFSETTO:+0000
TZNAME:UTC
DTSTART:20240101T000000
END:STANDARD
END:VTIMEZONE
BEGIN:VEVENT
DTSTART;TZID=UTC:20250125T210000
DTEND;TZID=UTC:20250126T230000
DTSTAMP:20260424T152232
CREATED:20240712T073911Z
LAST-MODIFIED:20241115T110345Z
UID:16793-1737838800-1737932400@pallastheater.com
SUMMARY:George Hatzipavlou - Stand-up Comedy at Pallas Theater
DESCRIPTION:Privileges at Club Pallas\n \n\n\n\n\n\nA stand-up comedy performance: \n\nAbout the only 15 minutes a man can think clearly.\nFor the best moment in any relationship.\nThe monopoly\, the puzzles and the traditional dances.\nThe things that are only written in posts because if you say them verbally you’ll grow old alone.\nThe universe that helps you find your other half 500 yards from your house.\nThe stuff you learn on the playground about dads.\nThe life coaches and those who write “lover of light” on their profiles.\nAbout how to discover who you really are and what you do if you find you’re unlikable.\nThe right and wrong way to grow up and everything you would tell your teenage self.\nFor those who tell you numbers and names after sneezing whether you like it or not.\nThe relationship between a dick pic and free enterprise.\n\nBut also all those things\, big or small\, that we avoid talking about even though they’re right in front of us\, like an elephant in the room. \n  \n*Suitable for over 15 years of age \n\n\n\n\n\n\n\n\n\n\n\n\n\nTickets
URL:https://pallastheater.com/en/event/o-elefantas-sto-domatio-giorgos-chatzipavlou/
LOCATION:Pallas Theater\, Voukourestiou 3-5\, Athens\, Athens\, 10564\, Ελλάδα
CATEGORIES:Stand up – comedy
ATTACH;FMTTYPE=image/jpeg:https://pallastheater.com/wp-content/uploads/2024/07/viva_gen-elefantas-pallas-1240.jpg
ORGANIZER;CN="PUNCHLINE EE":MAILTO:info@xatzi.gr
END:VEVENT
END:VCALENDAR