BEGIN:VCALENDAR
VERSION:2.0
PRODID:-//Θέατρο Παλλάς - ECPv6.15.20//NONSGML v1.0//EN
CALSCALE:GREGORIAN
METHOD:PUBLISH
X-WR-CALNAME:Θέατρο Παλλάς
X-ORIGINAL-URL:https://pallastheater.com/en/
X-WR-CALDESC:Events for Θέατρο Παλλάς
REFRESH-INTERVAL;VALUE=DURATION:PT1H
X-Robots-Tag:noindex
X-PUBLISHED-TTL:PT1H
BEGIN:VTIMEZONE
TZID:Europe/Athens
BEGIN:DAYLIGHT
TZOFFSETFROM:+0200
TZOFFSETTO:+0300
TZNAME:EEST
DTSTART:20240331T010000
END:DAYLIGHT
BEGIN:STANDARD
TZOFFSETFROM:+0300
TZOFFSETTO:+0200
TZNAME:EET
DTSTART:20241027T010000
END:STANDARD
BEGIN:DAYLIGHT
TZOFFSETFROM:+0200
TZOFFSETTO:+0300
TZNAME:EEST
DTSTART:20250330T010000
END:DAYLIGHT
BEGIN:STANDARD
TZOFFSETFROM:+0300
TZOFFSETTO:+0200
TZNAME:EET
DTSTART:20251026T010000
END:STANDARD
BEGIN:DAYLIGHT
TZOFFSETFROM:+0200
TZOFFSETTO:+0300
TZNAME:EEST
DTSTART:20260329T010000
END:DAYLIGHT
BEGIN:STANDARD
TZOFFSETFROM:+0300
TZOFFSETTO:+0200
TZNAME:EET
DTSTART:20261025T010000
END:STANDARD
END:VTIMEZONE
BEGIN:VEVENT
DTSTART;TZID=Europe/Athens:20250926T210000
DTEND;TZID=Europe/Athens:20251005T233000
DTSTAMP:20260424T033050
CREATED:20250502T122544Z
LAST-MODIFIED:20250502T122917Z
UID:21450-1758920400-1759707000@pallastheater.com
SUMMARY:George Hatzipavlou – Stand-up Comedy at Pallas Theater
DESCRIPTION:Προνόμια Club Pallas\n \n\n\n\n\n\nFor last time in Athens \n\nA stand-up comedy performance: \nAbout the only 15 minutes a man can think clearly. \nFor the best moment in any relationship. \nThe monopoly\, the puzzles and the traditional dances. \nThe things that are only written in posts because if you say them verbally you’ll grow old alone. \nThe universe that helps you find your other half 500 yards from your house. \nThe stuff you learn on the playground about dads. \nThe life coaches and those who write “lover of light” on their profiles. \nAbout how to discover who you really are and what you do if you find you’re unlikable. \nThe right and wrong way to grow up and everything you would tell your teenage self. \nFor those who tell you numbers and names after sneezing whether you like it or not. \nThe relationship between a dick pic and free enterprise. \nBut also all those things\, big or small\, that we avoid talking about even though they’re right in front of us\, like an elephant in the room. \n\n*Suitable for over 15 years of age \n\n\n\n\n\n\n\n\n\n\n\n\n\nTICKETS
URL:https://pallastheater.com/en/event/o-elefantas-sto-domatio-giorgos-chatzipavlou-2/
LOCATION:Pallas Theater\, Voukourestiou 3-5\, Athens\, Athens\, 10564\, Ελλάδα
CATEGORIES:2025-2026,Stand up – comedy
ATTACH;FMTTYPE=image/jpeg:https://pallastheater.com/wp-content/uploads/2025/05/ELEF.jpg
END:VEVENT
END:VCALENDAR