BEGIN:VCALENDAR
VERSION:2.0
PRODID:-//Θέατρο Παλλάς - ECPv6.15.20//NONSGML v1.0//EN
CALSCALE:GREGORIAN
METHOD:PUBLISH
X-WR-CALNAME:Θέατρο Παλλάς
X-ORIGINAL-URL:https://pallastheater.com/en/
X-WR-CALDESC:Events for Θέατρο Παλλάς
REFRESH-INTERVAL;VALUE=DURATION:PT1H
X-Robots-Tag:noindex
X-PUBLISHED-TTL:PT1H
BEGIN:VTIMEZONE
TZID:Europe/Athens
BEGIN:DAYLIGHT
TZOFFSETFROM:+0200
TZOFFSETTO:+0300
TZNAME:EEST
DTSTART:20240331T010000
END:DAYLIGHT
BEGIN:STANDARD
TZOFFSETFROM:+0300
TZOFFSETTO:+0200
TZNAME:EET
DTSTART:20241027T010000
END:STANDARD
BEGIN:DAYLIGHT
TZOFFSETFROM:+0200
TZOFFSETTO:+0300
TZNAME:EEST
DTSTART:20250330T010000
END:DAYLIGHT
BEGIN:STANDARD
TZOFFSETFROM:+0300
TZOFFSETTO:+0200
TZNAME:EET
DTSTART:20251026T010000
END:STANDARD
BEGIN:DAYLIGHT
TZOFFSETFROM:+0200
TZOFFSETTO:+0300
TZNAME:EEST
DTSTART:20260329T010000
END:DAYLIGHT
BEGIN:STANDARD
TZOFFSETFROM:+0300
TZOFFSETTO:+0200
TZNAME:EET
DTSTART:20261025T010000
END:STANDARD
END:VTIMEZONE
BEGIN:VEVENT
DTSTART;TZID=Europe/Athens:20250516T210000
DTEND;TZID=Europe/Athens:20250529T233000
DTSTAMP:20260421T130342
CREATED:20250207T160312Z
LAST-MODIFIED:20250428T121341Z
UID:20882-1747429200-1748561400@pallastheater.com
SUMMARY:Nia Vardalos - TINY BEAUTIFUL THINGS
DESCRIPTION:Privileges at Club Pallas\n \n\n\n\n\n\nNia Vardalos\nTINY BEAUTIFUL THINGS \nThe hit production that broke USA box office records is coming to Pallas Theater in Athens\, Greece \non Friday\, May 16\, 2025. \n \nAcademy Award nominee\, screenwriter\, playwright\, actress\, producer\, and director\, the multi-talented Nia Vardalos has chosen the historic Pallas Theater to present\, for the first time in Greek\, in her homeland\, her play Tiny Beautiful Things. The play is the New York Times Critics’ Pick; worldwide\, the production has achieved great artistic and commercial success and rave reviews. \nTiny Beautiful Things is Nia Vardalos’s stage adaptation of Cheryl Strayed’s beloved book Tiny Beautiful Things\, which is a collection of real letters—letters that could have been written by any one of us. These letter-writers were answered by Strayed with optimism and tenderness\, offering guidance for both small and big life challenges. Vardalos adapted the book with care and love and has starred in the stage productions in New York and Los Angeles. For Nia\, beyond cinema\, theater remains her greatest love and creative passion. \n \nNia Vardalos will star in and co-direct her play in Athens. The original staging was directed by Tony Award-winning director Thomas Kail and premiered in New York theaters in 2016. \nThis deeply cathartic drama was so widely embraced that it was published and immediately sparked new productions in theaters across different countries and continents\, and has been performed continuously ever since. \n \nThe world-renowned and beloved artist Nia Vardalos now embarks on a spring theatrical run\, adapting the play into Greek\, with a translation by Spiros Katsaganis. Alongside a strong cast of Greek actors—her artistic companions Dimitris Papanikolaou\, Danai Loukaki & Dimitris Kitsos —she brings Tiny Beautiful Things to Greece performing on stage in Greek for the first time\, at the Pallas Theater. \nStarting on May 16\, 2025\, she will share with Greek audiences a moving and cathartic experience infused with humor\, tenderness\, drama and empathy. \n  \nTINY BEAUTIFUL THINGS\n– The play that teaches us to listen—to others and to ourselves.\n– The play that helps us find peace when we feel stuck.\n– The play that guides us toward healing when we feel broken.\n– The play that gives us the courage to ask questions that have no answers. \nTINY BEAUTIFUL THINGS – Advice on Love and Life \n“…If it happens in my life\, it probably happens in yours too. These letters were written by real people who reached out for help. I admire their courage … and I am thrilled to now share their stories with Greek audiences.”\n— Nia Vardalos \n  \nNia Vardalos\nTINY BEAUTIFUL THINGS \nBased on the book by Cheryl Strayed\nAdapted for the stage by: Nia Vardalos\nGreek translation by: Spiros Katsaganis\nCo-directed by: Nia Vardalos\, Spiros Katsaganis\nSet by: Yorgos Gavalas\nCostumes by: Alexia Theodoraki\nLights designed by: Dimitris Kostas\nStarring: Nia Vardalos\, Dimitris Papanikolaou\, Danai Loukaki\, Dimitris Kitsos\nProduction: Theatrikes Skines S.A.\, ADS48 MON IKE \n“Tiny Beautiful Things” is presented by arrangement with Concord Theatricals on behalf of Samuel French.\, Inc \n  \n*The production company reserves the right to increase or decrease ticket prices at its sole discretion. The price of tickets that have already been purchased cannot be reduced. \n\n\n\n\n\n\n\n\n\n\n\n\n\nTICKETS\n\n\n\n\n\n\n\n\n\n\n\n\n\n	Whatever is reported by the press…\n\n\n\n\n\n\n\n\n\n\n\n\n\n\n\n\n\n\n\n\n\n\n\n\n\n\n\n\n\n\nNia Vardalos: No matter how many “no’s” you hear\, one “yes” is always enough – Bringing a play in Greek to Pallas Theatre \n“Tiny Beautiful Things” at Pallas Theatre from May 16 – “I have a 100% Greek personality\, and yes\, all words have Greek roots\,” says Nia Vardalos to Gala \nSource: Protothema.gr
URL:https://pallastheater.com/en/event/nia-vardalos-tiny-beautiful-things-mikra-omorfa-pragmata/
LOCATION:Pallas Theater\, Voukourestiou 3-5\, Athens\, Athens\, 10564\, Ελλάδα
CATEGORIES:Theater
ATTACH;FMTTYPE=image/jpeg:https://pallastheater.com/wp-content/uploads/2025/02/TBTviva1220x370.jpg
END:VEVENT
END:VCALENDAR