BEGIN:VCALENDAR
VERSION:2.0
PRODID:-//Θέατρο Παλλάς - ECPv6.15.20//NONSGML v1.0//EN
CALSCALE:GREGORIAN
METHOD:PUBLISH
X-WR-CALNAME:Θέατρο Παλλάς
X-ORIGINAL-URL:https://pallastheater.com/en/
X-WR-CALDESC:Events for Θέατρο Παλλάς
REFRESH-INTERVAL;VALUE=DURATION:PT1H
X-Robots-Tag:noindex
X-PUBLISHED-TTL:PT1H
BEGIN:VTIMEZONE
TZID:Europe/Athens
BEGIN:DAYLIGHT
TZOFFSETFROM:+0200
TZOFFSETTO:+0300
TZNAME:EEST
DTSTART:20250330T010000
END:DAYLIGHT
BEGIN:STANDARD
TZOFFSETFROM:+0300
TZOFFSETTO:+0200
TZNAME:EET
DTSTART:20251026T010000
END:STANDARD
BEGIN:DAYLIGHT
TZOFFSETFROM:+0200
TZOFFSETTO:+0300
TZNAME:EEST
DTSTART:20260329T010000
END:DAYLIGHT
BEGIN:STANDARD
TZOFFSETFROM:+0300
TZOFFSETTO:+0200
TZNAME:EET
DTSTART:20261025T010000
END:STANDARD
BEGIN:DAYLIGHT
TZOFFSETFROM:+0200
TZOFFSETTO:+0300
TZNAME:EEST
DTSTART:20270328T010000
END:DAYLIGHT
BEGIN:STANDARD
TZOFFSETFROM:+0300
TZOFFSETTO:+0200
TZNAME:EET
DTSTART:20271031T010000
END:STANDARD
END:VTIMEZONE
BEGIN:VEVENT
DTSTART;TZID=Europe/Athens:20260518T210000
DTEND;TZID=Europe/Athens:20260518T233000
DTSTAMP:20260423T010827
CREATED:20260220T134549Z
LAST-MODIFIED:20260220T134728Z
UID:22826-1779138000-1779147000@pallastheater.com
SUMMARY:ΕNNIO MORRICONE: OSCAR-WINNING MUSIC
DESCRIPTION:TICKETS\n\n\n\n\n\n\n\n\n\n\n\n\n\nENNIO MORRICONE\nItalian Female Orchestra LE MUSE\nSpecial Guest-Soprano /Morricone’s Voice \nSUSANNA RIGACCI\nOrchestra Conductor\nAndrea Albertini \nAll the greatest hits of the composer of “Cinema Paradiso.” The famous melodies of the great Italian composer and conductor Ennio Morricone in films such as “Cinema Paradiso\,” “The Mission\,” “A Fistful of Dollars\,” “The Good\, the Bad and the Ugly\,” “Malena\,” “Once Upon a Time in the West\,” “Sacco and Vanzetti\,” “Once Upon a Time in America” and many more\, will be featured in a concert with the Italian women’s orchestra “LE MUSE\,” featuring Morricone’s unique diva\, Susanna Rigacci\, who accompanied him in his concerts for 20 years. \nAlong with the performance of the most famous soundtracks in cinema history\, images and clips from the films of Sergio Leone\, Federico Fellini\, Giuseppe Tornatore\, and Francis Ford Coppola\, accompanied by a brief narration about the life and work of Ennio Morricone\, creating an unforgettable experience.\n\nEnnio Morricone\, the Italian composer and conductor who captivated the world with his music\, won two Oscars\, three Grammy Awards\, four Golden Globes\, two European Film Awards – Golden Lion\, and many others\, and has sold more than 70 million records worldwide. His compositions have captivated entire generations and cover various musical genres\, making him the most important soundtrack composer of all time.\nThe tribute to his work that will be presented at the Pallas Theater is a tribute to the great composer.\n\nThe Le Muse symphony orchestra from Italy consists exclusively of female musicians\, most of whom come from the renowned Rondo Veneziano orchestra. Beyond their rich experience in all aspects of classical music\, they have a special feel for interpreting the compositions of Ennio Morricone\, whose music is widely known for its precision and sensitivity in describing images.\n\nThis tribute was first presented in 2016\, after Ennio Morricone was awarded an Oscar\, and received the High Patronage of the President of the Italian Republic for this performance as the most representative tribute to the great composer. It has been presented in many countries in Europe\, as well as in America and Asia (Los Angeles\, Bangkok\, San Francisco\, New Delhi\, Rabat\, Mumbai\, Toronto\, and elsewhere).\nThe exceptional soprano Daniela Placci holds a special place in the Le Muse Orchestra\, which is conducted by pianist\, orchestra founder\, and conductor Andrea Albertini.
URL:https://pallastheater.com/en/event/ennio-morricone-oscar-winning-music/
LOCATION:Pallas Theater\, Voukourestiou 3-5\, Athens\, Athens\, 10564\, Ελλάδα
CATEGORIES:2025-2026,Music,Theater
ATTACH;FMTTYPE=image/jpeg:https://pallastheater.com/wp-content/uploads/2026/02/morrico-site.jpg
END:VEVENT
BEGIN:VEVENT
DTSTART;TZID=Europe/Athens:20260521T210000
DTEND;TZID=Europe/Athens:20260522T233000
DTSTAMP:20260423T010827
CREATED:20260331T095057Z
LAST-MODIFIED:20260331T095319Z
UID:22929-1779397200-1779492600@pallastheater.com
SUMMARY:Yiannis Parios “My Whole Life” - EXTRA MAY DATES
DESCRIPTION:TICKETS\n\n\n\n\n\n\n\n\n\n\n\n\n\nThe EXTRA MAY DATES have just been announced\nTHURSDAY\, MAY 21 & FRIDAY\, MAY 22\n\nYiannis Parios continues his series of highly successful performances at the Pallas Theater on Thursday\, May 21\, and Friday\, May 22\, for two unique evenings filled with beloved songs.\n\nAfter a season of consecutive sold-out shows\, the leading interpreter of love returns for two more nights with songs from “his entire life”—songs that have marked generations and continue to move audiences.\n\nHis previous concerts at Pallas left an indelible mark\, evenings filled with emotion\, authenticity\, and a unique connection with the audience\, who sang and were moved alongside him. The audience’s response was overwhelming—a true celebration of music and love.\n\nArmed with fifty-six years of songs and accompanied by an exceptional orchestra\, we will fall in love\, we will dream\, we will feel nostalgic\, but we will also revel in the timeless island tunes we all love.
URL:https://pallastheater.com/en/event/giannis-parios-oli-i-zoi-mou-extra-imerominies-maiou/
LOCATION:Pallas Theater\, Voukourestiou 3-5\, Athens\, Athens\, 10564\, Ελλάδα
CATEGORIES:2025-2026,Music
ATTACH;FMTTYPE=image/jpeg:https://pallastheater.com/wp-content/uploads/2026/03/parios-31-3-26.jpg
END:VEVENT
BEGIN:VEVENT
DTSTART;TZID=Europe/Athens:20260523T210000
DTEND;TZID=Europe/Athens:20260523T233000
DTSTAMP:20260423T010827
CREATED:20260311T105306Z
LAST-MODIFIED:20260311T105436Z
UID:22871-1779570000-1779579000@pallastheater.com
SUMMARY:Grand Gala with Stars of the World Ballet at the Pallas Theatre
DESCRIPTION:The Pallas Theatre welcomes a Grand Gala of classical ballet featuring a dazzling lineup of international stars from some of Europe’s most prestigious stages. On May 23\, 2026\, the Athenian audience will have the exceptional opportunity to experience a unique evening of outstanding artistic value\, where technical brilliance\, expressiveness\, and the timeless beauty of classical dance meet on stage. \nWorld-renowned and award-winning dancers come together for the first time on the same stage\, presenting a program dedicated to the legendary ballet repertoire: \n• Maia Makhateli\, étoile\, Dutch National Ballet\n• Giorgi Potskhishvili\, étoile\, Dutch National Ballet\n• Tatyjana Melnik\, étoile\, Hungarian National Opera\n• Julian MacKay\, étoile\, Bavarian State Ballet\n• Ksenia Ovsyanick\, principal dancer\, Berlin State Ballet\n• David Motta Soares\, principal dancer\, Berlin State Ballet\n• Chinara Alizade\, principal dancer\, Polish National Ballet\n• Vladimir Yaroshenko\, principal dancer\, Polish National Ballet\n• Anastasia Konstantinova\, soloist\, Hungarian National Ballet in Budapest\n• Vyacheslav Gnedchik\, soloist\, Hungarian National Ballet in Budapest\nExperience the refined artistry of classical dance and a beauty that transcends earthly measure. \nThe program includes excerpts from masterpieces such as iconic pas de deux from the ballets Don Quixote (Minkus)\, The Flames of Paris (Asafiev)\, Giselle (Adam)\, the Classical Pas de Deux (Daniel-François-Esprit Auber)\, and the Spartacus Adagio(Khachaturian). \nFor the first time\, audiences will also enjoy duets from the ballets Lady of the Camellias\, Le Spectre de la Rose by Fokine\, and The Swan by Saint-Saëns\, accompanied by piano and cello. \nA legendary and unforgettable evening at the Pallas Theatre\, May 23\, 2026 at 20:30 \nDuration: 2 hours\, including a 20-minute intermission\nProduction: International Art Bureau of Nina Avramenko\nPromotion & Communication: ArtsPR \n  \n\n\n\n\n\n\n\n\n\n\n\n\n\nTickets
URL:https://pallastheater.com/en/event/asteres-tou-pagkosmiou-baletou-sto-theatro-pallas/
LOCATION:Pallas Theater\, Voukourestiou 3-5\, Athens\, Athens\, 10564\, Ελλάδα
CATEGORIES:2025-2026,Dance
ATTACH;FMTTYPE=image/jpeg:https://pallastheater.com/wp-content/uploads/2026/03/ballet.jpg
END:VEVENT
BEGIN:VEVENT
DTSTART;TZID=Europe/Athens:20260525T210000
DTEND;TZID=Europe/Athens:20260525T233000
DTSTAMP:20260423T010827
CREATED:20260331T112228Z
LAST-MODIFIED:20260331T112546Z
UID:22940-1779742800-1779751800@pallastheater.com
SUMMARY:100 years since the birth of KOSTAS MOUNTAKIS
DESCRIPTION:TICKETS\n\n\n\n\n\n\n\n\n\n\n\n\n\nA unique performance that will honor Kostas Mountakis while also commemorating the 85th anniversary of the Battle of Crete. \nKostas Mountakis was a great composer and lyre player from Crete who spread authentic Cretan music throughout Greece and abroad. He was dubbed “The Great Cretan” because he was an inspired teacher who left behind a remarkable body of work. He taught us to treat tradition with respect\, something particularly valuable for the new generation of singers and lyre players in Crete. \nTo enjoy authentic Cretan music with renowned performers and musicians in a selection of Kostas Mountakis’s most famous songs\, which are on the lips of all Cretans and beyond… such as: “O Pramateftis\,” “O Argaleios\,” “Mesopelaga Armenizo\,” “Den Thelo Mesa stin Kardia\,” “Eftase o ponos stin Kardia\,” “Sousta Moundakis\,” “Ezeugarosan ta poulia\,” and others \n  \nThe performance will help support:\nthe Special Education Workshop: “MARGARITA”  and the “FRIENDS OF THE CHILDREN’S VILLAGE OF NEAPOLIS\, LASITHI”
URL:https://pallastheater.com/en/event/100-chronia-apo-ti-gennisi-tou-kosta-mountaki/
LOCATION:Pallas Theater\, Voukourestiou 3-5\, Athens\, Athens\, 10564\, Ελλάδα
CATEGORIES:2025-2026,Music
ATTACH;FMTTYPE=image/jpeg:https://pallastheater.com/wp-content/uploads/2026/03/mountakis2.jpg
END:VEVENT
END:VCALENDAR