BEGIN:VCALENDAR
VERSION:2.0
PRODID:-//Θέατρο Παλλάς - ECPv6.15.20//NONSGML v1.0//EN
CALSCALE:GREGORIAN
METHOD:PUBLISH
X-WR-CALNAME:Θέατρο Παλλάς
X-ORIGINAL-URL:https://pallastheater.com/en/
X-WR-CALDESC:Events for Θέατρο Παλλάς
REFRESH-INTERVAL;VALUE=DURATION:PT1H
X-Robots-Tag:noindex
X-PUBLISHED-TTL:PT1H
BEGIN:VTIMEZONE
TZID:Europe/Athens
BEGIN:DAYLIGHT
TZOFFSETFROM:+0200
TZOFFSETTO:+0300
TZNAME:EEST
DTSTART:20250330T010000
END:DAYLIGHT
BEGIN:STANDARD
TZOFFSETFROM:+0300
TZOFFSETTO:+0200
TZNAME:EET
DTSTART:20251026T010000
END:STANDARD
BEGIN:DAYLIGHT
TZOFFSETFROM:+0200
TZOFFSETTO:+0300
TZNAME:EEST
DTSTART:20260329T010000
END:DAYLIGHT
BEGIN:STANDARD
TZOFFSETFROM:+0300
TZOFFSETTO:+0200
TZNAME:EET
DTSTART:20261025T010000
END:STANDARD
BEGIN:DAYLIGHT
TZOFFSETFROM:+0200
TZOFFSETTO:+0300
TZNAME:EEST
DTSTART:20270328T010000
END:DAYLIGHT
BEGIN:STANDARD
TZOFFSETFROM:+0300
TZOFFSETTO:+0200
TZNAME:EET
DTSTART:20271031T010000
END:STANDARD
END:VTIMEZONE
BEGIN:VEVENT
DTSTART;TZID=Europe/Athens:20260525T210000
DTEND;TZID=Europe/Athens:20260525T233000
DTSTAMP:20260423T010809
CREATED:20260331T112228Z
LAST-MODIFIED:20260331T112546Z
UID:22940-1779742800-1779751800@pallastheater.com
SUMMARY:100 years since the birth of KOSTAS MOUNTAKIS
DESCRIPTION:TICKETS\n\n\n\n\n\n\n\n\n\n\n\n\n\nA unique performance that will honor Kostas Mountakis while also commemorating the 85th anniversary of the Battle of Crete. \nKostas Mountakis was a great composer and lyre player from Crete who spread authentic Cretan music throughout Greece and abroad. He was dubbed “The Great Cretan” because he was an inspired teacher who left behind a remarkable body of work. He taught us to treat tradition with respect\, something particularly valuable for the new generation of singers and lyre players in Crete. \nTo enjoy authentic Cretan music with renowned performers and musicians in a selection of Kostas Mountakis’s most famous songs\, which are on the lips of all Cretans and beyond… such as: “O Pramateftis\,” “O Argaleios\,” “Mesopelaga Armenizo\,” “Den Thelo Mesa stin Kardia\,” “Eftase o ponos stin Kardia\,” “Sousta Moundakis\,” “Ezeugarosan ta poulia\,” and others \n  \nThe performance will help support:\nthe Special Education Workshop: “MARGARITA”  and the “FRIENDS OF THE CHILDREN’S VILLAGE OF NEAPOLIS\, LASITHI”
URL:https://pallastheater.com/en/event/100-chronia-apo-ti-gennisi-tou-kosta-mountaki/
LOCATION:Pallas Theater\, Voukourestiou 3-5\, Athens\, Athens\, 10564\, Ελλάδα
CATEGORIES:2025-2026,Music
ATTACH;FMTTYPE=image/jpeg:https://pallastheater.com/wp-content/uploads/2026/03/mountakis2.jpg
END:VEVENT
END:VCALENDAR