BEGIN:VCALENDAR
VERSION:2.0
PRODID:-//Θέατρο Παλλάς - ECPv6.15.20//NONSGML v1.0//EN
CALSCALE:GREGORIAN
METHOD:PUBLISH
X-WR-CALNAME:Θέατρο Παλλάς
X-ORIGINAL-URL:https://pallastheater.com
X-WR-CALDESC:Events for Θέατρο Παλλάς
REFRESH-INTERVAL;VALUE=DURATION:PT1H
X-Robots-Tag:noindex
X-PUBLISHED-TTL:PT1H
BEGIN:VTIMEZONE
TZID:Europe/Athens
BEGIN:DAYLIGHT
TZOFFSETFROM:+0200
TZOFFSETTO:+0300
TZNAME:EEST
DTSTART:20240331T010000
END:DAYLIGHT
BEGIN:STANDARD
TZOFFSETFROM:+0300
TZOFFSETTO:+0200
TZNAME:EET
DTSTART:20241027T010000
END:STANDARD
BEGIN:DAYLIGHT
TZOFFSETFROM:+0200
TZOFFSETTO:+0300
TZNAME:EEST
DTSTART:20250330T010000
END:DAYLIGHT
BEGIN:STANDARD
TZOFFSETFROM:+0300
TZOFFSETTO:+0200
TZNAME:EET
DTSTART:20251026T010000
END:STANDARD
BEGIN:DAYLIGHT
TZOFFSETFROM:+0200
TZOFFSETTO:+0300
TZNAME:EEST
DTSTART:20260329T010000
END:DAYLIGHT
BEGIN:STANDARD
TZOFFSETFROM:+0300
TZOFFSETTO:+0200
TZNAME:EET
DTSTART:20261025T010000
END:STANDARD
END:VTIMEZONE
BEGIN:VEVENT
DTSTART;TZID=Europe/Athens:20250516T210000
DTEND;TZID=Europe/Athens:20250529T233000
DTSTAMP:20260425T071601
CREATED:20250207T160312Z
LAST-MODIFIED:20250526T114320Z
UID:20864-1747429200-1748561400@pallastheater.com
SUMMARY:Nia Vardalos - TINY BEAUTIFUL THINGS (ΜΙΚΡΑ ΟΜΟΡΦΑ ΠΡΑΓΜΑΤΑ)
DESCRIPTION:Προνόμια Club Pallas\n \n\n\n\n\n\nNia Vardalos \nTINY BEAUTIFUL THINGS \nΜΙΚΡΑ ΟΜΟΡΦΑ ΠΡΑΓΜΑΤΑ \nΗ παράσταση που έσπασε  ταμεία  στα  θέατρα των Ηνωμένων Πολιτειών \nπαρουσιάζεται στην Ελλάδα\, στο Θέατρο Παλλάς\, από την Παρασκευή 16 Μαΐου 2025 \n \nΥποψήφια για Όσκαρ\, σεναριογράφος\, θεατρική συγγραφέας\, ηθοποιός\, παραγωγός και σκηνοθέτις\, αυθεντική και πολυτάλαντη\, η Nia Vardalos\, επιλέγει το Θέατρο Παλλάς\, για να παρουσιάσει για πρώτη φορά στα ελληνικά\, την παράστασή της “Tiny Beautiful Things”\, που σημειώνει μεγάλη επιτυχία και έχει αποσπάσει διθυραμβικές κριτικές. \nΤο “Tiny Beautiful things” είναι η θεατρική διασκευή\, που έχει πραγματοποιήσει στο ομώνυμο best seller βιβλίο της Cheryl Strayed\, μια συλλογή αληθινών επιστολών\, που γράφτηκαν σε μια λογοτεχνική στήλη μεγάλου αμερικάνικου περιοδικού\, επιστολές που θα μπορούσε να είχε γράψει ο καθένας μας\, και στις οποίες η Strayed απαντά ως “Sugar”. Στις επιστολές αυτές οι αναγνώστες ανώνυμα\, άνοιγαν την καρδιά τους στην Cheryl Strayed και μοιράζονταν προσωπικά τους θέματα.  Η “Sugar” είχε μια ιδιαίτερη σχέση με τους αναγνώστες της και απαντούσε με ευθύτητα μεν αλλά με αισιοδοξία και τρυφερότητα\, αποτελώντας ένα βάλσαμο ψυχής σε όσους αναζητούσαν καθοδήγηση για εμπόδια\, μεγάλα και μικρά. \n \nΗ Nia Vardalos διασκεύασε το βιβλίο με φροντίδα και αγάπη και πρωταγωνίστησε στις θεατρικές παραγωγές του έργου σε Νέα Υόρκη και Λος Άντζελες. Για τη Nia\, εκτός από τον κινηματογράφο\, το θέατρο παραμένει η μεγάλη της αγάπη και πηγή δημιουργικότητας. Η πρώτη σκηνοθεσία του θεατρικού έγινε από το βραβευμένο με Tony Award σκηνοθέτη Thomas Kail\, και της οποίας η αρχική πρεμιέρα πραγματοποιήθηκε στη Νέα Υόρκη\, το 2016. \nΗ παράσταση είχε τόσο μεγάλη απήχηση\, που στη συνέχεια δημιουργήθηκαν νέες παραγωγές σε όλο τον κόσμο με sold out παραστάσεις σε Φιλιππίνες\, Αυστραλία\,  Κορέα και Μεξικό και σε περισσότερα από 200 θέατρα στις ΗΠΑ. \n \nΗ Nia Vardalos παρουσιάζει για πρώτη φορά στην Ελλάδα\, στο Θέατρο Παλλάς  την παράσταση στα Ελληνικά\, σε μετάφραση και συν-σκηνοθεσία Σπύρου Κατσαγάνη μαζί με ένα ισχυρό cast Ελλήνων ηθοποιών\, τους Δημήτρη Παπανικολάου\, Δανάη Λουκάκη και Δημήτρη Κίτσο. \nΑπό τις 16 Μαΐου 2025\, και για λίγες μόνο παραστάσεις\, θα μοιραστεί με το ελληνικό κοινό μία θεατρική εμπειρία όπου το χιούμορ ακροβατεί πάνω στο δράμα\, με τρυφερότητα και ενσυναίσθηση. \nΜια παράσταση για τα εγκλωβισμένα και ανείπωτα της ανθρώπινης ψυχής\, που ψάχνουν να βρουν διέξοδο. \n \n  \nΗ New York Times γράφει:  \n«Μικρά Όμορφα Πράγματα – Η τέχνη του να ακούς και να ακούγεσαι ουσιαστικά». \n  \nNia Vardalos \nTINY BEAUTIFUL THINGS \nΘεατρική Διασκευή: Nia Vardalos \nΒασισμένο στο βιβλίο της Cheryl Strayed \nΜετάφραση στα Ελληνικά: Σπύρος Κατσαγάνης \nΣκηνοθεσία: Nia Vardalos\, Σπύρος Κατσαγάνης \nΣκηνικό: Γιώργος Γαβαλάς \nΕνδυματολόγος: Αλεξία Θεοδωράκη \nΣχεδιασμός φωτισμών: Δημήτρης Κουτάς \nΕπιμέλεια Φροντιστηρίου: Μέλπω Κασαπίδου \nΦωτογραφίες: Alex Kat \nArtwork: Κωνσταντίνος Γεωργαντάς \nΠρωταγωνιστούν:   \nNia Vardalos\,  \nΔημήτρης Παπανικολάου\,  \nΔανάη Λουκάκη\,  \nΔημήτρης Κίτσος \n  \nΔιάρκεια παράστασης: 1 ώρα και 35 λεπτά χωρίς διάλειμμα. \nΠαραγωγή: Θεατρικές Σκηνές Α.Ε.\, ADS48 MON.IKE \n  \nΥποστηρικτής: \n  \n Η άδεια για την από σκηνής θεάτρου παρουσίαση του έργου χορηγήθηκε από την Ελληνική εταιρία THE ARTBASSADOR / Performing Arts Management για λογαριασμό των Συγγραφέων NIA VARDALOS και CHERYL STRAYED\, c/o CONCORD THEATRICALS CORPORATION  \nΓια ομαδικές κρατήσεις παρακαλώ επικοινωνήστε στο  group@theatrikesskines.gr (κ. 6942771133) \n*Η παραγωγός εταιρία διατηρεί το δικαίωμα να αυξάνει ή να μειώνει τις τιμές των εισιτηρίων κατά την απόλυτη κρίσης της. Το τίμημα των εισιτηρίων που έχουν ήδη αγοραστεί δε γίνεται να μειωθεί. \n\n\n\n\n\n\n\n\n\n\n\n\n\nΕισιτηρια\n\n\n\n\n\n\n\n\n\n\n\n\n\n	Τι λέει ο τύπος…\n\n\n\n\n\n\n\n\n\n\n\n\n\n\n\n\n\n\n\n\n\n\n\n\n\n\n\n\n\n\nΕίδαμε το “Tiny Beautiful Things” στο Θέατρο Παλλάς \nTo “Tiny Beautiful Things” είναι μια ανθρώπινη\, τρυφερή παράσταση αφηγηματικού θεάτρου\, όπου η Νία Βαρντάλος\, με ευαισθησία και αλήθεια\, ζωντανεύει ιστορίες που αγγίζουν βαθιά την καρδιά του θεατή. \nΠηγή: Athinorama.gr \n\n\n\n\n\n\n\n\n\n\n\n\n\n\n\n\n\n\n\nΠαρατηρώντες: Tiny beautiful things @ Θέατρο Παλλάς \nΚαταπληκτικό το σκηνικό του κυρίου Γιώργου Γαβαλά! Το εσωτερικό ενός σπιτιού\, με βιβλιοθήκες και γραφείο και μια ζεστασιά που καταλαμβάνει όλο τον χώρο του θεάτρου από το πρώτο δευτερόλεπτο. Και μετά… \nΠηγή: keysmash.gr \n\n\n\n\n\n\n\n\n\n\n\n\n\n\n\n\n\n\n\n“Tiny Beautiful Things”: Μπήκαμε στην πρόβα με τη Νία Βαρντάλος \n‘Ένας καθρέφτης της ζωής μας και ταυτόχρονα ένα καταφύγιο για την ψυχή είναι το “Tiny Beautiful Things” που έφερε τον φετινό Μάιο τη Νία Βαρντάλος στην Αθήνα και το θέατρο Παλλάς. Εμείς βρεθήκαμε σε μία από τις πρόβες της Ελληνοκαναδής υποψήφιας για ‘Όσκαρ δημιουργού του “Γάμος αλά Ελληνικά” και βιώσαμε μέσα σ’ ένα πολύ ζεστό κλίμα\, από πολύ κοντά τη δημιουργία της ελληνικής σκηνικής εκδοχής του “Tiny Beautiful Things”. \nΠηγή: Athinorama.gr \n\n\n\n\n\n\n\n\n\n\n\n\n\n\n\n\n\n\n\nNia Vardalos: Όσα «όχι» κι αν ακούσεις\, ένα «ναι» θα είναι πάντα αρκετό – Ανεβάζει παράσταση στα ελληνικά στο Θέατρο Παλλάς \nΥποψήφια για Οσκαρ\, σεναριογράφος\, θεατρική συγγραφέας\, ηθοποιός\, παραγωγός και σκηνοθέτις\, τώρα η αεικίνητη Νία Βαρντάλος ανεβάζει την παράσταση «Tiny Beautiful Things» (Μικρά όμορφα πράγματα) στο Θέατρο Παλλάς από τις 16 Μαΐου και πρωταγωνιστεί ερμηνεύοντας για πρώτη φορά στα ελληνικά. \nΠηγή: Protothema.gr \n\n\n\n\n\n\n\n\n\n\n\n\n\n\n\n\n\n\n\nH Nία Βαρντάλος έρχεται με νέα θεατρική παράσταση στην Αθήνα – Έσπασε ταμεία στα θέατρα των ΗΠΑ \nΗ Νία Βαρντάλος\, η διεθνούς φήμης καλλιτέχνιδα\, υποψήφια για Όσκαρ\, σεναριογράφος\, ηθοποιός\, παραγωγός και σκηνοθέτις\, φέρνει την επιτυχημένη θεατρική παράστασή της «Tiny Beautiful Things» στην Ελλάδα\, για πρώτη φορά στα ελληνικά και με ελληνικό cast. \nΠηγή: Cnn.gr \n\n\n\n\n\n\n\n\n\n\n\n\n\n\n\n\n\n\n\nH Νία Βαρντάλος στην Αθήνα με την παράσταση της Tiny Beautiful Things \nΗ Νία Βαρντάλος\, δημιουργός του «Γάμος αλά Ελληνικά»\, έρχεται στην Αθήνα και στο Θέατρο Παλλάς\, για να παρουσιάσει\, πρώτη φορά στα ελληνικά\, την παράστασή της Tiny Beautiful Things\, που σημειώνει μεγάλη καλλιτεχνική\, εισπρακτική επιτυχία. \nΠηγή: Huffingtonpost.gr
URL:https://pallastheater.com/event/nia-vardalos-tiny-beautiful-things-mikra-omorfa-pragmata/
LOCATION:Θέατρο Παλλάς\, Βουκουρεστίου 3-5\, Αθήνα\, Αθήνα\, 10564\, Ελλάδα
CATEGORIES:Θέατρο
ATTACH;FMTTYPE=image/jpeg:https://pallastheater.com/wp-content/uploads/2025/02/TBTviva1220x370.jpg
END:VEVENT
BEGIN:VEVENT
DTSTART;TZID=Europe/Athens:20250519T210000
DTEND;TZID=Europe/Athens:20250519T233000
DTSTAMP:20260425T071601
CREATED:20250130T180746Z
LAST-MODIFIED:20250130T180746Z
UID:20796-1747688400-1747697400@pallastheater.com
SUMMARY:Omar Faruk Tekbilek & His Ensemble
DESCRIPTION:Προνόμια Club Pallas\n \n\n\n\n\n\nOmar Faruk Tekbilek & His Ensemble \nΣυμμετέχει η Νατάσα Μποφίλιου \n  \nΟ διεθνούς φήμης καλλιτέχνης Omar Faruk Tekbilek & His Ensemble έρχονται τη Δευτέρα 19 Μαΐου στην Αθήνα για μια μοναδική συναυλία στο Θέατρο Παλλάς. \nΤιμημένος ως ειρηνοποιός και βιρτουόζος\, ο Omar Faruk Tekbilek αποτελεί έναν από τους σημαντικότερους και πιο καταξιωμένους μουσικούς της Μέσης Ανατολής. Με μια καριέρα που εκτείνεται σε δεκαετίες\, η μουσική του ξεπερνά σύνορα και πολιτισμούς\, δημιουργώντας μια μοναδική γέφυρα ανάμεσα στην Ανατολή και τη Δύση. Με έναν ήχο που συνδυάζει τις πλούσιες παραδόσεις του σουφισμού\, της ανατολίτικης λαϊκής μουσικής και της σύγχρονης world music\, ο Omar Faruk Tekbilek μεταφέρει ένα μήνυμα ενότητας\, συνδέοντας το κοινό του με κάτι βαθιά πνευματικό και διαχρονικό. \nΤον Οκτώβριο του 2016\, ο Ομάρ είχε την τιμή να επισκεφθεί τον Μίκη Θεοδωράκη και να λάβει την έγκριση του για να παρουσιάσει τις μοναδικές ερμηνείες του πάνω στα έργα του μεγάλου Έλληνα συνθέτη. \nΈνα μέρος της συναυλίας θα είναι αφιερωμένο στο έργο και την κληρονομιά του Μίκη Θεοδωράκη\, με τον οποίο ο Omar Faruk Tekbilek είχε μια βαθιά προσωπική και καλλιτεχνική σχέση. Μαζί του επί σκηνής θα βρίσκεται η μοναδική Νατάσσα Μποφίλιου\, η οποία με την ξεχωριστή φωνή της και την έντονη σκηνική παρουσία της θα συμπληρώσει το αφιέρωμα. \nΗ Νατάσσα Μποφίλιου\, μια από τις πιο αγαπημένες ερμηνεύτριες της γενιάς της\, θα φέρει στη σκηνή τη δική της ερμηνευτική ευαισθησία και το πάθος της\, απογειώνοντας αυτή τη μαγική βραδιά. Τη μουσική βραδιά πλαισιώνει κουαρτέτο εγχόρδων. \n\n\n\n\n\n\n\n\n\n\n\n\n\nΕισιτηρια
URL:https://pallastheater.com/event/omar-faruk-tekbilek-his-ensemble/
LOCATION:Θέατρο Παλλάς\, Βουκουρεστίου 3-5\, Αθήνα\, Αθήνα\, 10564\, Ελλάδα
CATEGORIES:Μουσική
ATTACH;FMTTYPE=image/jpeg:https://pallastheater.com/wp-content/uploads/2025/01/omar-faruk.jpg
END:VEVENT
END:VCALENDAR