BEGIN:VCALENDAR
VERSION:2.0
PRODID:-//Θέατρο Παλλάς - ECPv6.15.20//NONSGML v1.0//EN
CALSCALE:GREGORIAN
METHOD:PUBLISH
X-ORIGINAL-URL:https://pallastheater.com
X-WR-CALDESC:Events for Θέατρο Παλλάς
REFRESH-INTERVAL;VALUE=DURATION:PT1H
X-Robots-Tag:noindex
X-PUBLISHED-TTL:PT1H
BEGIN:VTIMEZONE
TZID:Europe/Athens
BEGIN:DAYLIGHT
TZOFFSETFROM:+0200
TZOFFSETTO:+0300
TZNAME:EEST
DTSTART:20240331T010000
END:DAYLIGHT
BEGIN:STANDARD
TZOFFSETFROM:+0300
TZOFFSETTO:+0200
TZNAME:EET
DTSTART:20241027T010000
END:STANDARD
BEGIN:DAYLIGHT
TZOFFSETFROM:+0200
TZOFFSETTO:+0300
TZNAME:EEST
DTSTART:20250330T010000
END:DAYLIGHT
BEGIN:STANDARD
TZOFFSETFROM:+0300
TZOFFSETTO:+0200
TZNAME:EET
DTSTART:20251026T010000
END:STANDARD
BEGIN:DAYLIGHT
TZOFFSETFROM:+0200
TZOFFSETTO:+0300
TZNAME:EEST
DTSTART:20260329T010000
END:DAYLIGHT
BEGIN:STANDARD
TZOFFSETFROM:+0300
TZOFFSETTO:+0200
TZNAME:EET
DTSTART:20261025T010000
END:STANDARD
END:VTIMEZONE
BEGIN:VEVENT
DTSTART;TZID=Europe/Athens:20251018T210000
DTEND;TZID=Europe/Athens:20251019T233000
DTSTAMP:20260425T012823
CREATED:20250627T102017Z
LAST-MODIFIED:20250710T072107Z
UID:21638-1760821200-1760916600@pallastheater.com
SUMMARY:Γιώργος Νταλάρας - Στους δρόμους του Ρεμπέτικου
DESCRIPTION:  \n\n\n\n\n\n\n\n\n\n\n\n\n\n\n\n\nΠρονόμια Club Pallas\n \n\n\n\n\n\nΓΙΩΡΓΟΣ ΝΤΑΛΑΡΑΣ   \n”Στους δρόμους του Ρεμπέτικου” \n18 & 19 Οκτωβρίου στο Θέατρο Παλλάς \n\nΑν έπρεπε να ξεχωρίσουμε ένα είδος από το ανεξάντλητο ρεπερτόριο του Γιώργου Νταλάρα\, αυτό σίγουρα θα ήταν το ρεμπέτικο που αγάπησε από παιδί\, ερμήνευσε σε όλη τη διάρκεια της μουσικής του διαδρομής και συνεχίζει μέχρι σήμερα να σκαλίζει\, να ανακαλύπτει και να παρουσιάζει κρυμμένα τραγούδια\, όχι μόνο ως ερμηνευτής αλλά και ως μουσικός. Για τον ίδιο\, ‘’το ρεμπέτικο είναι το πιο επαναστατικό και ζωντανό είδος της μουσικής μας”. \nΜετά την περιοδεία του με ρεμπέτικα τραγούδια σε κατάμεστες και σπουδαίες αίθουσες στην Ευρώπη και την τεράστια επιτυχία που γνώρισαν οι παραστάσεις του “Ρεμπέτικου” στο Μέγαρο Μουσικής τον περασμένο Μάϊο\, κατόπιν απαίτησης του κοινού\, ο Γιώργος Νταλάρας ετοιμάζει δύο μουσικές παραστάσεις στις 18 και 19 Οκτωβρίου στο Θέατρο Παλλάς  αφιερωμένες στα εμβληματικά τραγούδια του ρεμπέτικου\, όπου θα συμπεριλάβει και κάποια τραγούδια σύγχρονων Ελλήνων δημιουργών γραμμένα στους δρόμους του ρεμπέτικου\, που άφησαν τη δική τους ανεξίτηλη σφραγίδα στην ιστορία της ελληνικής μουσικής. \nΔύο μουσικές παραστάσεις για  τη μουσική που εμβαθύνει στην ελληνική ψυχή κι έχει βοηθήσει καταλυτικά στην τοιχογραφία της συλλογικής κοινωνικής συνείδησης και του ήθους του αυθεντικού λαϊκού τραγουδιού. \nΜαζί του τραγουδούν\, η Ασπασία Στρατηγού και ο Βασίλης Κορακάκης. \nΠροσκεκλημένοι\, η Χριστίνα Μαξούρη\, η Μαριάνα Κατσιμίχα και οι Μιχάλης και Παντελής Καλογεράκης. \nΣυμμετέχει μία εξαιρετική\, πολυμελής ορχήστρα αποτελούμενη από σολίστες μουσικούς. \n\n\n\n\n\n\n\n\n\n\n\n\n\n\n  \n\n\n\n\n\n\n\n\n\n\n\n\n\nΕισιτηρια\n\n\n\n\n\n\n\n\n\n\n\n\n\n	Τι λέει ο τύπος…\n\n\n\n\n\n\n\n\n\n\n\n\n\n\n\n\n\n\n\n\n\n\n\n\n\n\n\n\n\nΟ Γιώργος Νταλάρας μας προσκαλεί στους δρόμους του ρεμπέτικου\, στο Παλλάς \nΔύο μουσικές παραστάσεις ετοιμάζει ο Γιώργος Νταλάρας\, για τη μουσική που εμβαθύνει στην ελληνική ψυχή. \nΠηγή: In.gr \n\n\n\n\n\n\n\n\n\n\n\n\n\n\n\n\n\n\n\nΟ Γιώργος Νταλάρας βαδίζει “Στους δρόμους του Ρεμπέτικου” \nΤο Θέατρο Παλλάς υποδέχεται τον τραγουδιστή για δύο μουσικές παραστάσεις με εμβληματικά τραγούδια του “πιο επαναστατικού και ζωντανού είδους της μουσικής μας”\, κατά τον ίδιο. \nΠηγή: Athinorama.gr \n\n\n\n\n\n\n\n\n\n\n\n\n\n\n\n\n\n\n\nΟ Γιώργος Νταλάρας παρουσιάζει τις μουσικές παραστάσεις «Στους δρόμους του Ρεμπέτικου» στο Θέατρο Παλλάς \nΣε αυτές τις βραδιές θα συμπεριλάβει επίσης τραγούδια σύγχρονων Ελλήνων δημιουργών γραμμένα στους ίδιους μουσικούς δρόμους\, που άφησαν τη δική τους ανεξίτηλη σφραγίδα στην ιστορία της ελληνικής μουσικής. \nΠηγή: Politic.gr
URL:https://pallastheater.com/event/giorgos-ntalaras-stous-dromous-tou-rebetikou/
LOCATION:Θέατρο Παλλάς\, Βουκουρεστίου 3-5\, Αθήνα\, Αθήνα\, 10564\, Ελλάδα
CATEGORIES:2025-2026,Μουσική
ATTACH;FMTTYPE=image/jpeg:https://pallastheater.com/wp-content/uploads/2025/06/NTALARASviva1220x370-1.jpg
END:VEVENT
END:VCALENDAR