BEGIN:VCALENDAR
VERSION:2.0
PRODID:-//Θέατρο Παλλάς - ECPv6.15.20//NONSGML v1.0//EN
CALSCALE:GREGORIAN
METHOD:PUBLISH
X-WR-CALNAME:Θέατρο Παλλάς
X-ORIGINAL-URL:https://pallastheater.com
X-WR-CALDESC:Events for Θέατρο Παλλάς
REFRESH-INTERVAL;VALUE=DURATION:PT1H
X-Robots-Tag:noindex
X-PUBLISHED-TTL:PT1H
BEGIN:VTIMEZONE
TZID:Europe/Athens
BEGIN:DAYLIGHT
TZOFFSETFROM:+0200
TZOFFSETTO:+0300
TZNAME:EEST
DTSTART:20240331T010000
END:DAYLIGHT
BEGIN:STANDARD
TZOFFSETFROM:+0300
TZOFFSETTO:+0200
TZNAME:EET
DTSTART:20241027T010000
END:STANDARD
BEGIN:DAYLIGHT
TZOFFSETFROM:+0200
TZOFFSETTO:+0300
TZNAME:EEST
DTSTART:20250330T010000
END:DAYLIGHT
BEGIN:STANDARD
TZOFFSETFROM:+0300
TZOFFSETTO:+0200
TZNAME:EET
DTSTART:20251026T010000
END:STANDARD
BEGIN:DAYLIGHT
TZOFFSETFROM:+0200
TZOFFSETTO:+0300
TZNAME:EEST
DTSTART:20260329T010000
END:DAYLIGHT
BEGIN:STANDARD
TZOFFSETFROM:+0300
TZOFFSETTO:+0200
TZNAME:EET
DTSTART:20261025T010000
END:STANDARD
END:VTIMEZONE
BEGIN:VEVENT
DTSTART;TZID=Europe/Athens:20250918T210000
DTEND;TZID=Europe/Athens:20251012T233000
DTSTAMP:20260420T110219
CREATED:20250314T162648Z
LAST-MODIFIED:20250901T091305Z
UID:21155-1758229200-1760311800@pallastheater.com
SUMMARY:Τα πήρες όλα κι έφυγες - στη Θεσσαλονίκη
DESCRIPTION:«Τα πήρες όλα κι έφυγες – Η ζωή του Στράτου Διονυσίου» \nΟ Στράτος επιστρέφει στον τόπο του! \nΗ ΕΠΙΤΥΧΙΑ ΤΗΣ ΧΡΟΝΙΑΣ ΕΡΧΕΤΑΙ ΤΟ ΣΕΠΤΕΜΒΡΙΟ ΣΤΗ ΘΕΣΣΑΛΟΝΙΚΗ ΣΤΟ ΘΕΑΤΡΟ ΡΑΔΙΟ ΣΙΤΥ  \nΕισιτήρια: more.com\, στα καταστήματα public και στο ταμείο του RadioCity.\n\n\nEarly bird offer 20% \n(σε επιλεγμένες ζώνες και ημερομηνίες)\n\n\nΩράριο λειτουργίας του ταμείου RadioCity Theatre\nΑπό Τρίτη έως και Κυριακή:\n10:30-13:30 & 17:30 -21:00\n\nΜετά την τεράστια ανταπόκριση του κοινού στο Θέατρο Παλλάς στην Αθήνα\, η παράσταση «Τα πήρες όλα κι έφυγες – Η ζωή του Στράτου Διονυσίου» θα ταξιδέψει τον ερχόμενο Σεπτέμβριο στη Θεσσαλονίκη στο θέατρο Ράδιο Σίτυ\, για περιορισμένες παραστάσεις. \n————————————————————————————- \nΓια πρώτη φορά η μυθιστορηματική ζωή  του Στράτου Διονυσίου ζωντανεύει επί σκηνής για λίγες παραστάσεις! Μια μοναδική μουσικοθεατρική παράσταση – αφιέρωμα σε έναν από τους πιο εμβληματικούς τραγουδιστές της Ελλάδας. Ο Γιάννης Τσορτέκης στον πρωταγωνιστικό ρόλο  ενσαρκώνει με σεβασμό και αυθεντικότητα τον αείμνηστο τραγουδιστή ενώ οι σημαντικότερες στιγμές της ζωής του\, παρουσιάζονται στη σκηνή με τη σκηνοθετική ματιά του πολυτάλαντου Βασίλη Μαυρογεωργίου\, σε κείμενο του Κωνσταντίνου Σαμαρά. Μαζί τους\, τα παιδιά του Στράτου Διονυσίου\, ο Στέλιος\, ο Άγγελος και ο Διαμαντής που αποτελούν μέρος της ιστορίας ενώ τραγουδούν με ζωντανή ορχήστρα τις μεγάλες επιτυχίες  σταθμούς της καριέρας του και μια ομάδα σημαντικών ηθοποιών και συντελεστών\, που δίνουν ξανά πνοή στους ήρωες της ζωής του. \nΚοντά του – ήρωες της ζωής του Στράτου\, η Μαρία Κεχαγιόγλου\, ο Γιάννης Νταλιάνης\, η Μπέσυ Μάλφα\, o Μιχάλης Αλικάκος\, η Χρύσα Κλούβα και ο Δημήτρης Μαχαίρας. \n«Αποκοιμήθηκα»\, «Πήγαινέ με όπου θέλεις ταξιτζή»\, «Τα πήρες όλα και έφυγες»\, «Πάρε ό\,τι θέλεις παλιατζή»\, «Ο Σαλονικιός»\, «Ποιος σου είπε για τους μάγκες»\, «Βρέχει φωτιά  στη στράτα μου»\, «Άκου βρε φίλε» είναι κάποια από τα μεγάλα λαϊκά τραγούδια\, που έβαζαν φωτιά στην Αθηναϊκή νύχτα και θα απολαύσουμε ζωντανά επί σκηνής σε μία παράσταση – αφιερωμένη στις σημαντικότερες στιγμές του. \n\nΟ «Σαλονικιός» επιστρέφει στον τόπο του\, εκεί από όπου\, όλα ξεκίνησαν… \n\nΤαυτότητα Παράστασης:  \nΤα πήρες όλα και έφυγες – Η ζωή του Στράτου Διονυσίου στη Θεσσαλονίκη \nΚείμενο:   Κωνσταντίνος Σαμαράς \nΣκηνοθεσία:   Βασίλης Μαυρογεωργίου \nΜουσική διεύθυνση:  Νίκος Στρατηγός \nΣκηνικό: Γιώργος Γαβαλάς\, Μιχαήλ Σαπλαούρας \nΕνδυματολόγος: Αλεξία Θεοδωράκη \nΣχεδιασμός φωτισμών: Στέλλα Κάλτσου \nΧορογραφία/ Κίνηση: Πάρης Μαντόπουλος \nΒοηθός Σκηνοθέτη: Στάθης Γεωργαντζής \nΔραματουργική επεξεργασία: Τζούλια Διαμαντοπούλου \nΦωτογραφίες – Video:  Πάτροκλος Σκαφίδας \nArtwork: Κωνσταντίνος Γεωργαντάς \nΔιεύθυνση παραγωγής: Δημήτρης Σκανδάμης \nΒασισμένο σε μια ιδέα του Γιάννη Κεντ. \nΠρωταγωνιστούν: \nΓιάννης Τσορτέκης \nΜαρία Κεχαγιόγλου\, Γιάννης Νταλιάνης\, Μπέσσυ Μάλφα\, Μιχάλης Αλικάκoς\, Θανάσης Βλαβιανός\, Χρύσα Κλούβα\, Δημήτρης Μαχαίρας \nΜαρίνος Ταρνανάς\, Δήμητρα Σταύρου\, Δημήτρης Γαλανάκης\, Ευγενία Κάρνου\, Ρωξάνη Καρφή\, Λεωνίδας Μπακάλης\, \nΓιώργος Δημόπουλος\, Στάθης Γεωργαντζής \nΟι παιδικές φωνές του Στράτου και της Γεωργίας είναι οι Γιώργος Καρυστινός και Άλκηστη Καρυστινού. \nΤραγουδούν εναλλάξ ανά δύο στη σκηνή τα παιδιά του Στράτου Διονυσίου\, ο Άγγελος\, ο Στέλιος και ο Διαμαντής. \nΣυμμετοχή ο κορυφαίος μουσικοσυνθέτης  Θανάσης Πολυκανδριώτης. \nΖωντανή ορχήστρα στη σκηνή με μαέστρο\, το Νίκο Στρατηγό. \nΠαραστάσεις από Πέμπτη 18 Σεπτεμβρίου \n  \nΠρόγραμμα παραστάσεων: \nΤετάρτη στις 20:00 \nΠέμπτη στις 21:00 \nΠαρασκευή στις 21:00 \nΣάββατο στις 21:00 \nΚυριακή στις 20:00 \n  \nΤιμές εισιτηρίων: από 15 ευρώ \nΗ Θεσσαλονίκη περιμένει τον «άρχοντα της νύχτας»\, που θα  καθηλώσει το κοινό\, από τις 18 Σεπτεμβρίου 2025 για λίγες παραστάσεις. \nΓια ομαδικές κρατήσεις παρακαλώ επικοινωνήστε στο  group@theatrikesskines.gr (κ. 6942771133) \n*Η παραγωγός εταιρία διατηρεί το δικαίωμα να αυξάνει ή να μειώνει τις τιμές των εισιτηρίων κατά την απόλυτη κρίσης της. Το τίμημα των εισιτηρίων που έχουν ήδη αγοραστεί δε γίνεται να μειωθεί. \n\n\n\n\n\n\n\n\n\n\n\n\n\nΕισιτηρια\n\n\n\n\n\n\n\n\n\n\n\n\n\n	Τι λέει ο τύπος…\n\n\n\n\n\n\n\n\n\n\n\n\n\n\n\n\n\n\n\n\n\n\n\n\n\n\n\n\n\n\nΘεατής: «Tα πήρες όλα κι έφυγες» – Η ζωή του Στράτου Διονυσίου στο Παλλάς \nΒρεθήκαμε μια νύχτα στο Παλλάς για την παράσταση «Tα πήρες όλα κι έφυγες» που μας ταξίδεψε στους κυριότερους σταθμούς της ζωής του Στράτου Διονυσίου\, της ψυχής του λαϊκού τραγουδιού. \nΠηγή: Monopoli.gr \n\n\n\n\n\n\n\n\n\n\n\n\n\n\n\n\n\n\n\nΤα πήρες όλα κι έφυγες – Η ζωή του Στράτου Διονυσίου \nΗ προσωπικότητα και τα γεγονότα της ζωής του μεγάλου λαϊκού τραγουδιστή τροφοδοτούν μια μουσικοθεατρική παράσταση με όλα τα χαρακτηριστικά του είδους\, που επιπλέον καταφέρνει να προτείνει και κάτι παραπάνω από ψυχαγωγία. \nΠηγή: Athinorama.gr \n\n\n\n\n\n\n\n\n\n\n\n\n\n\n\n\n\n\n\nEίδα το μιούζικαλ για τον Στράτο Διονυσίου στο Παλλάς \nΤα πήρες όλα κι έφυγες»\, είναι ο τίτλος του νέου έργου που ανέβηκε στο «Παλλάς» με θέμα τον Στράτο. Κι όποιος ρωτάει «Ποιόν Στράτο;» δικαιολογείται για την άγνοιά του μόνον αν γεννήθηκε μετά το 2000… \nΠηγή: Athensvoice.gr \n\n\n\n\n\n\n\n\n\n\n\n\n\n\n\n\n\n\n\nΕίδαμε την παράσταση “Τα πήρες όλα κι έφυγες – Η ζωή του Στράτου Διονυσίου” στο Παλλάς – Πάλλεται από συγκίνηση το θέατρο \nΜια μεγάλη θεατρική παραγωγή που αναδεικνύει με λαμπερό τρόπο τη μυθιστορηματική ζωή του μεγάλου Έλληνα βάρδου του λαϊκού τραγουδιού Στράτου Διονυσίου \nΠηγή: Parapolitika.gr \n\n\n\n\n\n\n\n\n\n\n\n\n\n\n\n\n\n\n\n«Τα πήρες όλα κι έφυγες»: Είδαμε την παράσταση και αυτή είναι η κριτική μας \nΗ ιστορία ενός από τους μεγαλύτερους λαϊκούς τραγουδιστές στην Ελλάδα\, ζωντανεύει στο θεατρικό σανίδι και συγκεκριμένα στην υπέροχο Παλλάς. Η ζωή και η καριέρα του Στράτου Διονυσίου θα ξεδιπλωθεί μπροστά σας χωρίς να κρύβει τίποτα αλλά και χωρίς να θίγει… \nΠηγή: Okmag.gr \n\n\n\n\n\n\n\n\n\n\n\n\n\n\n\n\n\n\n\nΤα πήρες όλα και έφυγες – Διονυσίου: Η Κριτική μας για την παράσταση \nΒρεθήκαμε στην πρεμιέρα της παράστασης Τα πήρες όλα και έφυγες – Η ζωή του Στράτου Διονυσίου στο Θέατρο Παλλάς κι αυτή είναι η κριτική μας. \nΠηγή: Youfly.com \n\n\n\n\n\n\n\n\n\n\n\n\n\n\n\n\n\n\n\nΤα πήρες όλα και έφυγες – Η ζωή του Στράτου Διονυσίου: Είδαμε την παράσταση στο θέατρο Παλλάς! \nΗ μουσικοθεατρική παράσταση – αφιέρωμα στον σπουδαίο Στράτο Διονυσίου έκανε πρεμιέρα την Τέταρτη 12 Μαρτίου στο θέατρο Παλλάς και πλήθος κόσμου έδωσε το “παρών” και καταχειροκρότησε όλους τους συντελεστές. \nΠηγή: Gpop.gr \n\n\n\n\n\n\n\n\n\n\n\n\n\n\n\n\n\n\n\n«Tα πήρες όλα κι έφυγες – Στράτος Διονυσίου»: Κριτική Παράστασης \nΤο greekaffair.gr παρακολούθησε την παράσταση «Tα πήρες όλα κι έφυγες» και σας μεταφέρει τις εντυπώσεις του μέσα από αυτήν την ανασκόπηση. \nΠηγή: Greekaffair.gr \n  \n\n\n\n\n\n\n\n\n\n\n\n\n\n\n\n\n\n\n\nΠαρατηρώντες: Τα πήρες όλα κι έφυγες – Η ζωή του Στράτου Διονυσίου @ Παλλάς \nΤα φώτα χαμηλώνουν. Spotlight στον μαέστρο. Ο κύριος Θανάσης Πολυκανδριώτης εμφανίζεται παρέα με το ευγενές οκτάχορδο και μας καλώς ορίζει. Απόψε θα παίξει για τον Στράτο\, για τον αγαπημένο του Μεμέτη. Δεν είναι ηθοποιός\, δεν είναι κονφερασιέ. Είναι ένας τεράστιος οργανοπαίχτης και μουσικός και ο ίδιος λέει για τον εαυτό του «Λένε για μένα πως παίζω καλά»… Άπειρο χειροκρότημα. \nΠηγή: Keysmash.gr \n\n\n\n\n\n\n\n\n\n\n\n\n\n\n\n\n\n\n\nΤα πήρες όλα κι έφυγες – Κριτική \nΠαρά τη σύντομη\, αλλά ιδιαίτερα πολυτάραχη ζωή του\, ο Στράτος Διονυσίου σφράγισε με τη στιβαρή φωνή του το λαϊκό πεντάγραμμο\, αφήνοντας πίσω σημαντική καλλιτεχνική παρακαταθήκη…… \nΠηγή: Onlytheater.gr \n\n\n\n\n\n\n\n\n\n\n\n\n\n\n\n\n\n\n\nΕίδα την παράσταση «ΤΑ ΠΗΡΕΣ ΟΛΑ ΚΙ ΕΦΥΓΕΣ – Στράτος Διονυσίου» \nΣτο Θέατρο Παλλάς παρακολούθησα την πολυσυζητημένη μουσικοθεατρική παράσταση αφιερωμένη στην ζωή του «άρχοντα της νύχτας»\, όπως τον αποκαλούσαν. Την ζωή του Στράτου Διονυσίου. \nΠηγή: Theaterproject365.gr \n\n\n\n\n\n\n\n\n\n\n\n\n\n\n\n\n\n\n\nΕίδαμε την παράσταση Τα πήρες όλα κι έφυγες στο θέατρο Παλλάς \nΣτον όμορφο χώρο του Παλλάς (έχω πάει πολλές φορές και ποτέ δεν μου φάνηκε τόσο ζεστός\, τόσο φιλόξενος)\, είδαμε τη ζωή του Στράτου Διονυσίου γραμμένη από τον Κώστα Σαμαρά και σκηνοθετημένη από τον Βασίλη Μαυρογεωργίου….. \nΠηγή:  Θεατρο.gr
URL:https://pallastheater.com/event/ta-pires-ola-ki-efyges-sti-thessaloniki/
LOCATION:Θέατρο Παλλάς\, Βουκουρεστίου 3-5\, Αθήνα\, Αθήνα\, 10564\, Ελλάδα
CATEGORIES:Θεσσαλονίκη
ATTACH;FMTTYPE=image/jpeg:https://pallastheater.com/wp-content/uploads/2025/03/DIONUSIOU_THESS1220x370.jpg
END:VEVENT
END:VCALENDAR