BEGIN:VCALENDAR
VERSION:2.0
PRODID:-//Θέατρο Παλλάς - ECPv6.15.20//NONSGML v1.0//EN
CALSCALE:GREGORIAN
METHOD:PUBLISH
X-ORIGINAL-URL:https://pallastheater.com
X-WR-CALDESC:Events for Θέατρο Παλλάς
REFRESH-INTERVAL;VALUE=DURATION:PT1H
X-Robots-Tag:noindex
X-PUBLISHED-TTL:PT1H
BEGIN:VTIMEZONE
TZID:UTC
BEGIN:STANDARD
TZOFFSETFROM:+0000
TZOFFSETTO:+0000
TZNAME:UTC
DTSTART:20240101T000000
END:STANDARD
END:VTIMEZONE
BEGIN:VEVENT
DTSTART;TZID=UTC:20250312T000000
DTEND;TZID=UTC:20250511T000000
DTSTAMP:20260423T004954
CREATED:20240820T095848Z
LAST-MODIFIED:20250522T101411Z
UID:17494-1741737600-1746921600@pallastheater.com
SUMMARY:Τα πήρες όλα και έφυγες - Η ζωή του Στράτου Διονυσίου
DESCRIPTION:Προνόμια Club Pallas\n \n\n\n\n\n\n\n\n\n\n\n\n\n\n\n\n\n\nΓΙΑ ΤΙΣ ΠΑΡΑΣΤΑΣΕΙΣ ΣΤΗ ΘΕΣΣΑΛΟΝΙΚΗ:  https://pallastheater.com/event/ta-pires-ola-ki-efyges-sti-thessaloniki/ \n  \nΠαράταση για τη θεατρική επιτυχία της χρονιάς! Αγγελος\, Στέλιος και Διαμαντής Διονυσίου μαζί στη σκηνή του Παλλάς: \nΚυριακή 27/4 – Άγγελος\, Στέλιος\, Διαμαντής \nΔευτέρα 28/4 – Άγγελος\, Στέλιος\, Διαμαντής \nΤετάρτη 30/4 – Άγγελος\, Στέλιος\, Διαμαντής \nΠαρασκευή 2/5 – Άγγελος\, Στέλιος\, Διαμαντής \nΣάββατο 3/5 – Άγγελος\, Στέλιος\, Διαμαντής \nΚυριακή 4/5 – Άγγελος\, Στέλιος\, Διαμαντής \nΤετάρτη 7/5 – Άγγελος\, Στέλιος\, Διαμαντής \nΠέμπτη 8/5 – Άγγελος Στέλιος\, Διαμαντής \nΠαρασκευή 9/5 – Άγγελος\, Διαμαντής \nΣάββατο 10/5 – Άγγελος\, Στέλιος\, Διαμαντής \nΚυριακή 11/5 – Άγγελος\, Στέλιος\, Διαμαντής \n\n«Τα πήρες όλα και έφυγες – Η ζωή του Στράτου Διονυσίου» \nΗ μουσικοθεατρική παράσταση – αφιέρωμα  στον εμβληματικό βάρδο της Θεσσαλονίκης  Στράτο Διονυσίου\, έρχεται στο Θέατρο Παλλάς\,  το Μάρτιο του 2025\, για έναν κύκλο παραστάσεων. \nΑναρωτιέται κανείς τί να πρωτοπεί για το Στράτο Διονυσίου: \nΜε το σταθερό του βήμα\,  το αγέρωχο ύφος\, το βλέμμα γεμάτο λάμψη\, το συγκρατημένο του χαμόγελο\, την αρχοντιά και το κύρος του\, μαγνήτιζε το κοινό πριν καν τραγουδήσει. \nΟ τρόπος που έπιανε το μικρόφωνο ήταν  ιδιαίτερος και  ολόδικός του. \nΗ φωνή του\, καθαρόαιμα λαϊκή\, χωρίς φτηνούς εντυπωσιασμούς\, φιγούρες και τερτίπια\, τραγουδούσε τα μεγάλα λαϊκά τραγούδια\, που κατά τον ποιητή (Θ.Γκόρπα) : « μοιάζουν με πουλιά/ μαύρα\, περήφανα\, έρημα\, ωραία και προδομένα…» \n«Αποκοιμήθηκα»\, «Πήγαινέ με όπου θέλεις ταξιτζή» \, «Τα πήρες όλα και έφυγες»\, «Πάρε ό\,τι θέλεις παλιατζή»\, «Ο Σαλονικιός»\, «Κύριος ήρθα και κύριος φεύγω»\, «Βρέχει φωτιά στη στράτα μου»\, «Ακου ρε φίλε» είναι κάποια από τα μεγάλα λαϊκά τραγούδια\, που έβαζαν φωτιά στην Αθηναϊκή νύχτα. \nΟ Στράτος Διουνυσίου δεν ήταν μόνο ένας από τους επικεφαλής της χορείας των μεγάλων τραγουδιστών\, αλλά ήταν Ο «άρχοντας της νύχτας» και της δισκογραφίας. \nΜονάκριβη και ατόφια υπήρξε η σχέση του με το κοινό\, το οποίο παραμένει  πιστό και ορκισμένο\,  με απόλυτο σεβαστό\, δέος και οικειότητα μαζί\,  στο «Σαλονικιό»\, σε όλη την πολυτάραχη ζωή του\, αλλά και στην απουσία του. \nΤη μυθιστορηματική  και δαιδαλώδη ζωή του Στράτου Διονυσίου θα παρουσιάσει στη σκηνή ο πολυτάλαντος σκηνοθέτης Βασίλης Μαυρογεωγίου\, σε μία παράσταση – κατάδυση  στις κυριότερες στιγμές της τραγουδιστικής και κοσμικής του ζωής. \nΠαίζονται ζωντανά επί σκηνής τα ωραιότερα λαϊκά  τραγούδια του\, εμβληματικά ζεϊμπέκικα\, λαϊκά τραγούδια που γέμιζαν ασφυκτικά τα κέντρα\, όπου και εάν εμφανιζόταν. \nΤραγουδούν εναλλάξ live\, τα παιδιά του\, ο Άγγελος\, ο Στέλιος και ο Διαμαντής. \n \nΜουσική διεύθυνση: Νίκος Στρατηγός \nΣυμμετέχει ο κορυφαίος μουσικοσυνθέτης Θανάσης Πολυκανδριώτης. \nΤο κείμενο της παράστασης ανήκει στον Κωνσταντίνο Σαμαρά. \nΣκηνογράφος:                  Γιώργος Γαβαλάς – Μιχάλης Σαπλαούρας \nΕνδυματολόγος:              Αλεξία Θεοδωράκη \nΣχεδιασμός φωτισμών:  Στέλλα Κάλτσου \nΧορογραφία/ Κίνηση:    Πάρης Μαντόπουλος                 \nΟ βασικός πρωταγωνιστικός ρόλος ενσάρκωσης του αείμνηστου τραγουδιστή αφήνεται στο ταλέντο  του Γιάννη Τσορτέκη. \nΚοντά του – ήρωες της ζωής του Στράτου\, η Μαρία Κεχαγιόγλου\, ο Γιάννης Νταλιάνης\, η Μπέσυ Μάλφα\, ο Μιχάλης Αλικάκος\, η Χρύσα Κλούβα και ο Δημήτρης Μαχαίρας. \nΣυμμετέχουν  οι ηθοποιοί: Μαρίνος Ταρνανάς\, Δήμητρα Σταύρου\, Δημήτρης Γαλανάκης\, Ευγενία Κάρνου\, Ρωξάνη Καρφή\, Λεωνίδας Μπακάλης\, Γιώργος Δημόπουλος\, Στάθης Γεωργαντζής\, Αλίκη Γεωργίου \nΖωντανή ορχήστρα επί σκηνής. \nΤο Θέατρο Παλλάς φοράει τα καλά του και περιμένει τον «άρχοντα της νύχτας»\, που θα  καθηλώσει το κοινό\, από τις 12 Μαρτίου 2025. \nTeaser: https://www.youtube.com/watch?v=CwSNGExhsfs \nhttps://www.youtube.com/watch?v=Ee_hz8CXfww \nΠαραγωγή: Θεατρικές Σκηνές \nΓια ομαδικές κρατήσεις παρακαλώ επικοινωνήστε στο  group@theatrikesskines.gr (κ. 6942771133) \n*Η παραγωγός εταιρία διατηρεί το δικαίωμα να αυξάνει ή να μειώνει τις τιμές των εισιτηρίων κατά την απόλυτη κρίσης της. Το τίμημα των εισιτηρίων που έχουν ήδη αγοραστεί δε γίνεται να μειωθεί. \n\n\n\n\n\n\n\n\n\n\n\n\n\n\nΕισιτηρια\n\n\nΤα πήρες όλα και έφυγες – Η ζωή του Στράτου Διονυσίου \n  \nΚείμενο: Κωνσταντίνος Σαμαράς – Σκηνοθεσία: Βασίλης Μαυρογεωργίου – Μουσική διεύθυνση: Νίκος Στρατηγός – Σκηνικό: Γιώργος Γαβαλάς\, Μιχαήλ Σαπλαούρας – Ενδυματολόγος: Αλεξία Θεοδωράκη – Σχεδιασμός φωτισμών: Στέλλα Κάλτσου – Χορογραφία/ Κίνηση: Πάρης Μαντόπουλος – Βοηθός Σκηνοθέτη: Στάθης Γεωργαντζής – Δραματουργική επεξεργασία: Τζούλια Διαμαντοπούλου  -Βοηθός ενδυματολόγου: Ελευθερία Πέτροβα – Βοηθός Σχεδιασμός φωτισμών: Ιφιγένεια Γιαννιού – Σχεδιασμός ήχου ορχήστρας: Αθανάσιος Χριστόπουλος – Επιμέλεια φροντιστηρίου: Αλεξάνδρα Γεωργίου – Artwork αφίσες σκηνικού: Σοφία Μαυρογεωργίου – Σχεδιασμός make up: Διονυσία Κωνσταντίνου – Περούκες: Θωμάς Γαλαζούλας – Κομμώσεις: Cut n Chemistry \nΚατασκευή σκηνικού: Lazaridis Scenic Studios – Οργάνωση τραγουδιστών και Ορχήστρας: Νίκη Φουσκετάκη – Ενοικίαση κοστουμιών: ΒΕΣΤΙΑΡΙΟ \nΦωτογραφίες – Video: Πάτροκλος Σκαφίδας – Artwork: Κωνσταντίνος Γεωργαντάς – Social Media: Renegade Media – Επικοινωνία: Μαργαρίτα Δρούτσα \nΓιάννης Τσορτέκης \nΜαρία Κεχαγιόγλου\, Γιάννης Νταλιάνης\, Μπέσυ Μάλφα\, Μιχάλης Αλικάκoς\, Χρύσα Κλούβα\, Δημήτρης Μαχαίρας \nΜαρίνος Ταρνανάς\, Δήμητρα Σταύρου\, Δημήτρης Γαλανάκης\, Ευγενία Κάρνου\, Ρωξάνη Καρφή\, Λεωνίδας Μπακάλης\, Γιώργος Δημόπουλος\, Στάθης Γεωργαντζής\, Αλίκη Γεωργίου \nΤραγουδούν εναλλάξ live\, τα παιδιά του Στράτου Διονυσίου\, ο Άγγελος\, ο Στέλιος και ο Διαμαντής. Συμμετοχή ο κορυφαίος μουσικοσυνθέτης  Θανάσης Πολυκανδριώτης –Ζωντανή ορχήστρα στη σκηνή με μαέστρο το Νίκο Στρατηγό \nΜουσικοί: Δημήτρης Σαββαΐδης\, Χρήστος Μιχάλης\, Πόλυς Πελέλης\, Άκης Γαβαλάς\, Νίκος Παπαναστασίου\, Ευάγγελος Ζαρμπούτης \nΟι παιδικές φωνές του Στράτου και της Γεωργίας είναι οι Γιώργος Καρυστινός και Άλκηστη Καρυστινού \nΠαραγωγή:  \nCosmetics by:  \nΧορηγοί Επικοινωνίας:\n \n\n\n\n\n\n\n\n\n\n\n\n\n\n\n	Τι λέει ο τύπος…\n\n\n\n\n\n\n\n\n\n\n\n\n\n\n\n\n\n\n\n\n\n\n\n\n\n\n\n\n\n\nΘεατής: «Tα πήρες όλα κι έφυγες» – Η ζωή του Στράτου Διονυσίου στο Παλλάς \nΒρεθήκαμε μια νύχτα στο Παλλάς για την παράσταση «Tα πήρες όλα κι έφυγες» που μας ταξίδεψε στους κυριότερους σταθμούς της ζωής του Στράτου Διονυσίου\, της ψυχής του λαϊκού τραγουδιού. \nΠηγή: Monopoli.gr \n\n\n\n\n\n\n\n\n\n\n\n\n\n\n\n\n\n\n\nΤα πήρες όλα κι έφυγες – Η ζωή του Στράτου Διονυσίου \nΗ προσωπικότητα και τα γεγονότα της ζωής του μεγάλου λαϊκού τραγουδιστή τροφοδοτούν μια μουσικοθεατρική παράσταση με όλα τα χαρακτηριστικά του είδους\, που επιπλέον καταφέρνει να προτείνει και κάτι παραπάνω από ψυχαγωγία. \nΠηγή: Athinorama.gr \n\n\n\n\n\n\n\n\n\n\n\n\n\n\n\n\n\n\n\nEίδα το μιούζικαλ για τον Στράτο Διονυσίου στο Παλλάς \nΤα πήρες όλα κι έφυγες»\, είναι ο τίτλος του νέου έργου που ανέβηκε στο «Παλλάς» με θέμα τον Στράτο. Κι όποιος ρωτάει «Ποιόν Στράτο;» δικαιολογείται για την άγνοιά του μόνον αν γεννήθηκε μετά το 2000… \nΠηγή: Athensvoice.gr \n\n\n\n\n\n\n\n\n\n\n\n\n\n\n\n\n\n\n\nΕίδαμε την παράσταση “Τα πήρες όλα κι έφυγες – Η ζωή του Στράτου Διονυσίου” στο Παλλάς – Πάλλεται από συγκίνηση το θέατρο \nΜια μεγάλη θεατρική παραγωγή που αναδεικνύει με λαμπερό τρόπο τη μυθιστορηματική ζωή του μεγάλου Έλληνα βάρδου του λαϊκού τραγουδιού Στράτου Διονυσίου \nΠηγή: Parapolitika.gr \n\n\n\n\n\n\n\n\n\n\n\n\n\n\n\n\n\n\n\n«Τα πήρες όλα κι έφυγες»: Είδαμε την παράσταση και αυτή είναι η κριτική μας \nΗ ιστορία ενός από τους μεγαλύτερους λαϊκούς τραγουδιστές στην Ελλάδα\, ζωντανεύει στο θεατρικό σανίδι και συγκεκριμένα στην υπέροχο Παλλάς. Η ζωή και η καριέρα του Στράτου Διονυσίου θα ξεδιπλωθεί μπροστά σας χωρίς να κρύβει τίποτα αλλά και χωρίς να θίγει… \nΠηγή: Okmag.gr \n\n\n\n\n\n\n\n\n\n\n\n\n\n\n\n\n\n\n\nΤα πήρες όλα και έφυγες – Διονυσίου: Η Κριτική μας για την παράσταση \nΒρεθήκαμε στην πρεμιέρα της παράστασης Τα πήρες όλα και έφυγες – Η ζωή του Στράτου Διονυσίου στο Θέατρο Παλλάς κι αυτή είναι η κριτική μας. \nΠηγή: Youfly.com \n\n\n\n\n\n\n\n\n\n\n\n\n\n\n\n\n\n\n\nΤα πήρες όλα και έφυγες – Η ζωή του Στράτου Διονυσίου: Είδαμε την παράσταση στο θέατρο Παλλάς! \nΗ μουσικοθεατρική παράσταση – αφιέρωμα στον σπουδαίο Στράτο Διονυσίου έκανε πρεμιέρα την Τέταρτη 12 Μαρτίου στο θέατρο Παλλάς και πλήθος κόσμου έδωσε το “παρών” και καταχειροκρότησε όλους τους συντελεστές. \nΠηγή: Gpop.gr \n\n\n\n\n\n\n\n\n\n\n\n\n\n\n\n\n\n\n\n«Tα πήρες όλα κι έφυγες – Στράτος Διονυσίου»: Κριτική Παράστασης \nΤο greekaffair.gr παρακολούθησε την παράσταση «Tα πήρες όλα κι έφυγες» και σας μεταφέρει τις εντυπώσεις του μέσα από αυτήν την ανασκόπηση. \nΠηγή: Greekaffair.gr \n  \n\n\n\n\n\n\n\n\n\n\n\n\n\n\n\n\n\n\n\nΠαρατηρώντες: Τα πήρες όλα κι έφυγες – Η ζωή του Στράτου Διονυσίου @ Παλλάς \nΤα φώτα χαμηλώνουν. Spotlight στον μαέστρο. Ο κύριος Θανάσης Πολυκανδριώτης εμφανίζεται παρέα με το ευγενές οκτάχορδο και μας καλώς ορίζει. Απόψε θα παίξει για τον Στράτο\, για τον αγαπημένο του Μεμέτη. Δεν είναι ηθοποιός\, δεν είναι κονφερασιέ. Είναι ένας τεράστιος οργανοπαίχτης και μουσικός και ο ίδιος λέει για τον εαυτό του «Λένε για μένα πως παίζω καλά»… Άπειρο χειροκρότημα. \nΠηγή: Keysmash.gr \n\n\n\n\n\n\n\n\n\n\n\n\n\n\n\n\n\n\n\nΤα πήρες όλα κι έφυγες – Κριτική \nΠαρά τη σύντομη\, αλλά ιδιαίτερα πολυτάραχη ζωή του\, ο Στράτος Διονυσίου σφράγισε με τη στιβαρή φωνή του το λαϊκό πεντάγραμμο\, αφήνοντας πίσω σημαντική καλλιτεχνική παρακαταθήκη…… \nΠηγή: Onlytheater.gr \n\n\n\n\n\n\n\n\n\n\n\n\n\n\n\n\n\n\n\nΕίδα την παράσταση «ΤΑ ΠΗΡΕΣ ΟΛΑ ΚΙ ΕΦΥΓΕΣ – Στράτος Διονυσίου» \nΣτο Θέατρο Παλλάς παρακολούθησα την πολυσυζητημένη μουσικοθεατρική παράσταση αφιερωμένη στην ζωή του «άρχοντα της νύχτας»\, όπως τον αποκαλούσαν. Την ζωή του Στράτου Διονυσίου. \nΠηγή: Theaterproject365.gr \n\n\n\n\n\n\n\n\n\n\n\n\n\n\n\n\n\n\n\nΕίδαμε την παράσταση Τα πήρες όλα κι έφυγες στο θέατρο Παλλάς \nΣτον όμορφο χώρο του Παλλάς (έχω πάει πολλές φορές και ποτέ δεν μου φάνηκε τόσο ζεστός\, τόσο φιλόξενος)\, είδαμε τη ζωή του Στράτου Διονυσίου γραμμένη από τον Κώστα Σαμαρά και σκηνοθετημένη από τον Βασίλη Μαυρογεωργίου….. \nΠηγή:  Θεατρο.gr \n\n\n\n\n\n\n\n\n\n\n\n\n\n\n\n\n\n\n\n«Τα πήρες όλα κι έφυγες – Η ζωή του Στράτου Διονυσίου»: 11 ακόμα παραστάσεις μετά το Πάσχα – Τι διαφορά θα έχουν \n«Τα πήρες όλα κι έφυγες – Η ζωή του Στράτου Διονυσίου»: Η παράσταση που κέρδισε κοινό και κριτικούς\, συνεχίζει την θεατρική διαδρομή της για λίγες ακόμα παραστάσεις. \nΠηγή: Enikos.gr \n\n\n\n\n\n\n\n\n\n\n\n\n\n\n\n\n\n\n\nΠαράταση παραστάσεων για το εξαιρετικά επιτυχημένο “Τα πήρες όλα κι έφυγες – Η ζωή του Στράτου Διονυσίου” \nΤο κοινό σιγοτραγουδά τα αξεπέραστα τραγούδια του μεγάλου λαϊκού τραγουδιστή Στράτου Διονυσίου και απολαμβάνει τον Γιάννη Τσορτέκη σε μία ακόμα καθολική μεταμόρφωση στη σκηνή του Παλλάς. Λόγω επιτυχίας το «Τα πήρες όλα κι έφυγες – Η ζωή του Στράτου Διονυσίου» παρατείνεται στην Αθήνα και ταυτόχρονα ξεκίνησαν οι προπωλήσεις στη Θεσσαλονίκη. \nΠηγή: Athinorama.gr \n\n\n\n\n\n\n\n\n\n\n\n\n\n\n\n\n\n\n\nΘεατής: «Tα πήρες όλα κι έφυγες» – Η ζωή του Στράτου Διονυσίου στο Παλλάς \nΒρεθήκαμε μια νύχτα στο Παλλάς για την παράσταση «Tα πήρες όλα κι έφυγες» που μας ταξίδεψε στους κυριότερους σταθμούς της ζωής του Στράτου Διονυσίου\, της ψυχής του λαϊκού τραγουδιού. \nΠηγή: Monopoli.gr \n\n\n\n\n\n\n\n\n\n\n\n\n\n\n\n\n\n\n\nΣτράτος Διονυσίου: Πώς είναι σήμερα η σύζυγός του – Η στιγμή που Στέλιος και Άγγελος γονατίζουν μπροστά της με δάκρυα \nΣτο Θέατρο Παλλάς βρέθηκε το βράδυ της Κυριακής 16 Μαρτίου η σύζυγος του Στράτου Διονυσίου\, Γεωργία Διονυσίου η οποία παρακολούθησε την παράσταση «Τα πήρες όλα κι έφυγες»\, αφιερωμένη στη ζωή του αείμνηστου καλλιτέχνη. \nΠηγή: Tlife.gr \n\n\n\n\n\n\n\n\n\n\n\n\n\n\n\n\n\n\n\nΣτράτος Διονυσίου: Η έντονη ζωή\, η μουσική κληρονομιά και η παράσταση «Tα πήρες όλα κι έφυγες» που φωτίζει άγνωστες πτυχές του μύθου \nΗ μουσική του ένωσε γενιές. Τα τραγούδια του έγιναν ύμνοι του λαού. Και τώρα\, η ζωή του γίνεται θεατρικό έργο στο Παλλάς – Οι συντελεστές της παράστασης μιλούν στο ethnos.gr \nΠηγή: Ethnos.gr \n\n\n\n\n\n\n\n\n\n\n\n\n\n\n\n\n\n\n\n«Τα πήρες όλα κι έφυγες» – Η παράσταση που «ζωντανεύει» τη ζωή του σπουδαίου Στράτου Διονυσίου \nΤα 35 χρόνια που συμπληρώνονται στις 11 Μαΐου από τον θάνατο του Στράτου Διονυσίου μοιάζουν πολλά. Και όμως είναι πολύ λίγα. Πολύ λίγα για να ξεχάσει ο κόσμος έναν από τους σημαντικότερους λαϊκούς τραγουδιστές που πέρασαν ποτέ από τη χώρα. Και αυτό αποδεικνύεται περίτρανα κάθε βράδυ στο Θέατρο Παλλάς. \nΠηγή: In.gr \n\n\n\n\n\n\n\n\n\n\n\n\n\n\n\n\n\n\n\nΠαρατηρώντες: Τα πήρες όλα κι έφυγες – Η ζωή του Στράτου Διονυσίου \nH ιστορία του Στράτου Διονυσίου. Του κορυφαίου Έλληνα λαϊκού ερμηνευτή. Του ανθρώπου που τραγούδησε με τέτοιο τρόπο\, που τρέλανε τον κόσμο! Απόψε τον υποδύεται ένας εξαιρετικός ηθοποιός. Ο κύριος Γιάννης Τσορτέκης\, ο οποίος μαγεύει. \n Πηγή: Keysmash.gr \n\n\n\n\n\n\n\n\n\n\n\n\n\n\n\n\n\n\n\nΤα πήρες όλα και έφυγες – Διονυσίου: Η Κριτική μας για την παράσταση \nΒρεθήκαμε στην πρεμιέρα της παράστασης Τα πήρες όλα και έφυγες – Η ζωή του Στράτου Διονυσίου στο Θέατρο Παλλάς κι αυτή είναι η κριτική μας. Οι Θεατρικές Σκηνές και το Θέατρο Παλλάς ανέβασαν ψηλά τον πήχη και τα κατάφεραν. \nΠηγή: Youfly.com \n\n\n\n\n\n\n\n\n\n\n\n\n\n\n\n\n\n\n\n«Τα πήρες όλα κι έφυγες»: Είδαμε την παράσταση και αυτή είναι η κριτική μας \nΗ ιστορία ενός από τους μεγαλύτερους λαϊκούς τραγουδιστές στην Ελλάδα\, ζωντανεύει στο θεατρικό σανίδι και συγκεκριμένα στην υπέροχο Παλλάς. Η ζωή και η καριέρα του Στράτου Διονυσίου θα ξεδιπλωθεί μπροστά σας χωρίς να κρύβει τίποτα αλλά και χωρίς να θίγει… \nΠηγή: Okmag.gr \n\n\n\n\n\n\n\n\n\n\n\n\n\n\n\n\n\n\n\n«Τα πήρες όλα κι έφυγες – Η ζωή του Στράτου Διονυσίου» έρχεται στο Θέατρο Παλλάς \nΜεσημέρι Τετάρτης στο κέντρο της Aθήνας και το «Περιβόλι του Ουρανού» μετονομάζεται σε «Στράτος»\, το όνομα του εμβληματικού νυχτερινού κέντρου του Στράτου Διονυσίου και υποδέχεται φίλους και συντελεστές με άρωμα λαϊκό\, νοσταλγικό και με μια γεύση από τη νυχτερινή Αθήνα των 80’s στην παρουσίαση της μουσικοθεατρικής παράστασης – αφιέρωμα στον εμβληματικό βάρδο της Θεσσαλονίκης. \nΠηγή: Iefimerida.gr \n\n\n\n\n\n\n\n\n\n\n\n\n\n\n\n\n\n\n\n«Τα πήρες όλα κι έφυγες» στο Παλλάς: Επική συνέντευξη τύπου @«Στράτος» \nΣε μια διαφορετική Συνέντευξη Τύπου υποδέχτηκε τους εκπροσώπους του τύπου το Θέατρο Παλλάς μαζί με τους συντελεστές της παράστασης «Τα πήρες όλα κι έφυγες – Η ζωή του Στράτου Διονυσίου»\, που θα κάνει πρεμιέρα στις 12 Μαρτίου. \nΠηγή: Cosmopoliti.com \n\n\n\n\n\n\n\n\n\n\n\n\n\n\n\n\n\n\n\nΣτράτος Διονυσίου: Όσα έζησε\, τραγούδησε\, αγάπησε στη σκηνή του Παλλάς \nΚατά τις δεκαετίες ’60 – ’80\, ο Στράτος Διονυσίου καθιερώθηκε ως ένας από τους μεγαλύτερους λαϊκούς τραγουδιστές γράφοντας τη δική του ιστορία στις αθηναϊκές νύχτες. Σήμερα\, 65 χρόνια αργότερα\, μία παράσταση αφιερωμένη στον ίδιο\, επιχειρεί να ξανά γράψει αυτή την ιστορία. \nΠηγή: Monopoli.gr \n\n\n\n\n\n\n\n\n\n\n\n\n\n\n\n\n\n\n\nΗ ζωή του Στράτου Διονυσίου στο Παλλάς: Η ιδέα της παράστασης\, η επιλογή Τσορτέκη και το γλέντι στη συνέντευξη Τύπου \nTo Dnews βρέθηκε στην ξεχωριστή συνέντευξη Τύπου που γρήγορα μετατράπηκε σε γλέντι\, με τα αγαπημένα τραγούδια του Στράτου Διονυσίου που ερμήνευσαν οι τρεις γιοι του: Άγγελος\, Στέλιος και Διαμαντής. \nΠηγή: Dnews.gr \n\n\n\n\n\n\n\n\n\n\n\n\n\n\n\n\n\n\n\nΓιάννης Τσορτέκης: «Ο ρόλος του Στράτου Διονυσίου είναι δέλεαρ» \nΟ Γιάννης Τσορτέκης βρέθηκε στον καναπέ του “Στούντιο 4” και μεταξύ άλλων\, μίλησε για την παράσταση ”Τα πήρες όλα και έφυγες – Η ζωή του Στράτου Διονυσίου” στο Παλλάς. \nΠηγή: Youfly.com \n\n\n\n\n\n\n\n\n\n\n\n\n\n\n\n\n\n\n\nΔείτε πλάνα από τις πρόβες της παράστασης για τον Στράτο Διονυσίου με τον Γιάννη Τσορτέκη \nΗ μουσικοθεατρική παράσταση «Τα πήρες όλα και έφυγες – Η ζωή του Στράτου Διονυσίου» με πρωταγωνιστή τον Γιάννη Τσορτέκη θα κάνει πρεμιέρα τον Μάρτιο στο Παλλάς. \nΠηγή: Dnews.gr \n\n\n\n\n\n\n\n\n\n\n\n\n\n\n\n\n\n\n\nΣτράτος Διονυσίου: H ζωή του γίνεται παράσταση στο Παλλάς – Ποιος θα τον υποδυθεί \nΟ αγαπημένος λαϊκός τραγουδιστής\, Στράτος Διονυσίου\, έχει σφραγίσει την μουσική και τον πολιτισμό αυτής της χώρας με τα τραγούδια του και την φωνή του. \nΠηγή: Youfly.com \n\n\n\n\n\n\n\n\n\n\n\n\n\n\n\n\n\n\n\nH μυθιστορηματική ζωή του Στράτου Διονυσίου ανεβαίνει στο Θέατρο Παλλάς \nΗ παράσταση\, που είναι μια εμβριθή εξερεύνηση της μυθιστορηματικής ζωής του Διονυσίου\, θα συνδυάζει θεατρική τέχνη με ζωντανή μουσική\, αποτίοντας φόρο τιμής στο έργο του και τη μοναδική φωνή του. \nΠηγή: Tetragwno.gr \n\n\n\n\n\n\n\n\n\n\n\n\n\n\n\n\n\n\n\nΓιάννης Τσορτέκης: Θα υποδυθεί τον Στράτο Διονυσίου \n“Τα πήρες όλα και έφυγες” θα έχει τίτλο η παράσταση που θα ανέβει τον Μάρτιο στο θέατρο Παλλάς αφιερωμένη στη μυθιστορηματική ζωή του σπουδαίου Στράτου Διονυσίου. \nΠηγή: Enikos.gr \n\n\n\n\n\n\n\n\n\n\n\n\n\n\n\n\n\n\n\nΣτράτος Διονυσίου: Η ζωή του ανεβαίνει στο θεατρικό σανίδι – Ο ηθοποιός «φαβορί» για να τον υποδυθεί \nΗ παράσταση θα κάνει πρεμιέρα την άνοιξη του 2025 στο Θέατρο Παλλάς \nΠηγή: Ethnos.gr \n\n\n\n\n\n\n\n\n\n\n\n\n\n\n\n\n\n\n\nΓιάννης Τσορτέκης: Ο νέος ρόλος του ηθοποιού που θα «τσακίσει» κόκκαλα \nΟ ηθοποιός που τηλεοπτικά θα τον απολαύσουμε μέσα από τη σειρά του Alpha\, Άγιος Έρωτας\, θα ενσαρκώσει τον μοναδικό Στράτο Διονυσίου. \nΠηγή: Znews.gr
URL:https://pallastheater.com/event/ta-pires-ola-kai-efyges/
LOCATION:Θέατρο Παλλάς\, Βουκουρεστίου 3-5\, Αθήνα\, Αθήνα\, 10564\, Ελλάδα
CATEGORIES:Μουσική
ATTACH;FMTTYPE=image/jpeg:https://pallastheater.com/wp-content/uploads/2024/08/TRIPLETAviva1220x370.jpg
ORGANIZER;CN="%CE%98%CE%95%CE%91%CE%A4%CE%A1%CE%99%CE%9A%CE%95%CE%A3 %CE%A3%CE%9A%CE%97%CE%9D%CE%95%CE%A3 %CE%91%CE%95":MAILTO:info@theatrikesskines.gr
END:VEVENT
END:VCALENDAR